FILENAME: O4510558.NES.840609.tif
QUADRANGLE_NAME: MOORHEAD
QUADRANT: NE
WEST_LONGITUDE: -105 48 45.00000
EAST_LONGITUDE: -105 45 0.00000
NORTH_LATITUDE: 45 7 30.00000
SOUTH_LATITUDE: 45 3 45.00000
PRODUCTION_DATE: 1997 11 18
RASTER_ORDER: LEFT_RIGHT/TOP_BOTTOM
BAND_ORGANIZATION: SINGLE FILE
BAND_CONTENT: BLACK&WHITE
BAND_CONTENT: UNDEFINED
BAND_CONTENT: UNDEFINED
BITS_PER_PIXEL: 8
SAMPLES_AND_LINES: 5629 7591
HORIZONTAL_DATUM: NAD83
HORIZONTAL_COORDINATE_SYSTEM: UTM
COORDINATE_ZONE: 13
HORIZONTAL_UNITS: METERS
HORIZONTAL_RESOLUTION: 1.00000
SECONDARY_HORIZONTAL_DATUM: NAD27
XY_ORIGIN: 435688.50000 4997456.50000
SECONDARY_XY_ORIGIN: 435730.89800 4997240.12200
NATION: US
STATE: MT
NW_QUAD_CORNER_XY: 436101.97000 4997157.54100
NE_QUAD_CORNER_XY: 441017.20200 4997110.04400
SE_QUAD_CORNERY_XY: 440952.82800 4990166.97300
SW_QUAD_CORNER_XY: 436032.23100 4990214.47000
SECONDARY_NW_QUAD_XY: 436100.07900 4996940.25100
SECONDARY_NE_QUAD_XY: 441015.45600 4996892.75200
SECONDARY_SE_QUAD_XY: 440951.08300 4989949.73500
SECONDARY_SW_QUAD_XY: 436030.34000 4989997.23400
RMSE_XY: 1.73000
IMAGE_SOURCE: BLACK & WHITE FILM
SOURCE_IMAGE_ID: NAPP 3708 130
SOURCE_IMAGE_DATE: 1991 08 30
SOURCE_DEM_DATE: 1970 01 01
AGENCY: WESTERN MAPPING CENTER (WMC)
PRODUCER: NIES MAPPING GROUP, INC.
PRODUCTION_SYSTEM: INTERGRAPH MODEL_SETUP, BASE_RECTIFIER
COMPRESSION: UNDEFINED
STANDARD_VERSION: 1996 12
METADATA_DATE: 1997 11 18
DATA_FILE_SIZE: 42735368
BYTE_COUNT: 5629
