FILENAME: O4510557.NES.840633.tif
QUADRANGLE_NAME: BRADSHAW CREEK
QUADRANT: NE
WEST_LONGITUDE: -105 56 15.00000
EAST_LONGITUDE: -105 52 30.00000
NORTH_LATITUDE: 45 7 30.00000
SOUTH_LATITUDE: 45 3 45.00000
PRODUCTION_DATE: 1997 11 21
RASTER_ORDER: LEFT_RIGHT/TOP_BOTTOM
BAND_ORGANIZATION: SINGLE FILE
BAND_CONTENT: BLACK&WHITE
BAND_CONTENT: UNDEFINED
BAND_CONTENT: UNDEFINED
BITS_PER_PIXEL: 8
SAMPLES_AND_LINES: 5639 7598
HORIZONTAL_DATUM: NAD83
HORIZONTAL_COORDINATE_SYSTEM: UTM
COORDINATE_ZONE: 13
HORIZONTAL_UNITS: METERS
HORIZONTAL_RESOLUTION: 1.00000
SECONDARY_HORIZONTAL_DATUM: NAD27
XY_ORIGIN: 425847.50000 4997562.50000
SECONDARY_XY_ORIGIN: 425889.92000 4997345.96600
NATION: US
STATE: MT
NW_QUAD_CORNER_XY: 426271.50600 4997263.93700
NE_QUAD_CORNER_XY: 431186.73800 4997208.83900
SE_QUAD_CORNERY_XY: 431111.63300 4990265.76800
SW_QUAD_CORNER_XY: 426191.03600 4990320.86600
SECONDARY_NW_QUAD_XY: 426269.32400 4997046.64900
SECONDARY_NE_QUAD_XY: 431184.70100 4996991.55000
SECONDARY_SE_QUAD_XY: 431109.59700 4990048.53300
SECONDARY_SW_QUAD_XY: 426188.85400 4990103.63300
RMSE_XY: 0.98000
IMAGE_SOURCE: BLACK & WHITE FILM
SOURCE_IMAGE_ID: NAPP 3716 6
SOURCE_IMAGE_DATE: 1992 08 31
SOURCE_DEM_DATE: 1970 01 01
AGENCY: WESTERN MAPPING CENTER (WMC)
PRODUCER: NIES MAPPING GROUP, INC.
PRODUCTION_SYSTEM: INTERGRAPH MODEL_SETUP, BASE_RECTIFIER
COMPRESSION: UNDEFINED
STANDARD_VERSION: 1996 12
METADATA_DATE: 1997 11 21
DATA_FILE_SIZE: 42850761
BYTE_COUNT: 5639
