FILENAME: O4510556.NES.1167589.tif
QUADRANGLE_NAME: BELLE CREEK NORTH
QUADRANT: NE
WEST_LONGITUDE: -105 3 45.00000
EAST_LONGITUDE: -105 0 0.00000
NORTH_LATITUDE: 45 15 0.00000
SOUTH_LATITUDE: 45 11 15.00000
PRODUCTION_DATE: 2001 11 16
RASTER_ORDER: LEFT_RIGHT/TOP_BOTTOM
BAND_ORGANIZATION: SINGLE FILE
BAND_CONTENT: BLACK&WHITE
BAND_CONTENT: UNDEFINED
BAND_CONTENT: UNDEFINED
BITS_PER_PIXEL: 8
SAMPLES_AND_LINES: 5555 7550
HORIZONTAL_DATUM: NAD83
HORIZONTAL_COORDINATE_SYSTEM: UTM
COORDINATE_ZONE: 13
HORIZONTAL_UNITS: METERS
HORIZONTAL_RESOLUTION: 1.00000
SECONDARY_HORIZONTAL_DATUM: NAD27
XY_ORIGIN: 494747.00000 5011026.00000
SECONDARY_XY_ORIGIN: 494789.00000 5010811.00000
NATION: US
STATE: MT
NW_QUAD_CORNER_XY: 495095.51200 5010724.74200
NE_QUAD_CORNER_XY: 500000.00000 5010722.84200
SE_QUAD_CORNERY_XY: 500000.00000 5003779.61700
SW_QUAD_CORNER_XY: 495090.13700 5003781.51700
SECONDARY_NW_QUAD_XY: 495095.36700 5010507.33500
SECONDARY_NE_QUAD_XY: 500000.00000 5010505.43600
SECONDARY_SE_QUAD_XY: 500000.00000 5003562.26300
SECONDARY_SW_QUAD_XY: 495089.99100 5003564.16300
RMSE_XY: 0.80000
IMAGE_SOURCE: BLACK AND WHITE FILM
SOURCE_IMAGE_ID: NAPP 9119 59
SOURCE_IMAGE_DATE: 1996 8 26
SOURCE_DEM_DATE: 1969 00 00
AGENCY: ROCKY MOUNTAIN MAPPING CENTER (RMMC)
PRODUCER: ROCKY MOUNTAIN MAPPING CENTER (RMMC)
PRODUCTION_SYSTEM: DV2.6.4 1/00 OV2.6 6/00
COMPRESSION: UNDEFINED
STANDARD_VERSION: 1996 12
METADATA_DATE: 2001 11 16
DATA_FILE_SIZE: 41945805
BYTE_COUNT: 5555
