FILENAME: O4510548.SES.1167587.tif
QUADRANGLE_NAME: BOYES
QUADRANT: SE
WEST_LONGITUDE: -105 3 45.00000
EAST_LONGITUDE: -105 0 0.00000
NORTH_LATITUDE: 45 18 45.00000
SOUTH_LATITUDE: 45 15 0.00000
PRODUCTION_DATE: 2001 11 16
RASTER_ORDER: LEFT_RIGHT/TOP_BOTTOM
BAND_ORGANIZATION: SINGLE FILE
BAND_CONTENT: BLACK&WHITE
BAND_CONTENT: UNDEFINED
BAND_CONTENT: UNDEFINED
BITS_PER_PIXEL: 8
SAMPLES_AND_LINES: 5550 7550
HORIZONTAL_DATUM: NAD83
HORIZONTAL_COORDINATE_SYSTEM: UTM
COORDINATE_ZONE: 13
HORIZONTAL_UNITS: METERS
HORIZONTAL_RESOLUTION: 1.00000
SECONDARY_HORIZONTAL_DATUM: NAD27
XY_ORIGIN: 494752.00000 5017969.00000
SECONDARY_XY_ORIGIN: 494793.81600 5017752.85200
NATION: US
STATE: MT
NW_QUAD_CORNER_XY: 495100.89400 5017668.04300
NE_QUAD_CORNER_XY: 500000.00000 5017666.14300
SE_QUAD_CORNERY_XY: 500000.00000 5010722.84200
SW_QUAD_CORNER_XY: 495095.51200 5010724.74200
SECONDARY_NW_QUAD_XY: 495100.74900 5017450.58500
SECONDARY_NE_QUAD_XY: 500000.00000 5017448.68500
SECONDARY_SE_QUAD_XY: 500000.00000 5010505.43600
SECONDARY_SW_QUAD_XY: 495095.36700 5010507.33500
RMSE_XY: 1.20000
IMAGE_SOURCE: BLACK AND WHITE FILM
SOURCE_IMAGE_ID: NAPP 9119 57
SOURCE_IMAGE_DATE: 1996 8 26
SOURCE_DEM_DATE: 1973 00 00
AGENCY: ROCKY MOUNTAIN MAPPING CENTER (RMMC)
PRODUCER: ROCKY MOUNTAIN MAPPING CENTER (RMMC)
PRODUCTION_SYSTEM: DV2.6.4 1/00 OV2.6 6/00
COMPRESSION: UNDEFINED
STANDARD_VERSION: 1996 12
METADATA_DATE: 2001 11 16
DATA_FILE_SIZE: 41908050
BYTE_COUNT: 5550
