FILENAME: O4510540.SWS.1167584.tif
QUADRANGLE_NAME: LIGHTNING BUTTE
QUADRANT: SW
WEST_LONGITUDE: -105 7 30.00000
EAST_LONGITUDE: -105 3 45.00000
NORTH_LATITUDE: 45 26 15.00000
SOUTH_LATITUDE: 45 22 30.00000
PRODUCTION_DATE: 2001 11 16
RASTER_ORDER: LEFT_RIGHT/TOP_BOTTOM
BAND_ORGANIZATION: SINGLE FILE
BAND_CONTENT: BLACK&WHITE
BAND_CONTENT: UNDEFINED
BAND_CONTENT: UNDEFINED
BITS_PER_PIXEL: 8
SAMPLES_AND_LINES: 5545 7554
HORIZONTAL_DATUM: NAD83
HORIZONTAL_COORDINATE_SYSTEM: UTM
COORDINATE_ZONE: 13
HORIZONTAL_UNITS: METERS
HORIZONTAL_RESOLUTION: 1.00000
SECONDARY_HORIZONTAL_DATUM: NAD27
XY_ORIGIN: 489869.00000 5031862.00000
SECONDARY_XY_ORIGIN: 489911.00000 5031646.00000
NATION: US
STATE: MT
NW_QUAD_CORNER_XY: 490223.35100 5031560.57300
NE_QUAD_CORNER_XY: 495111.67600 5031554.87400
SE_QUAD_CORNERY_XY: 495106.28200 5024611.42000
SW_QUAD_CORNER_XY: 490212.56400 5024617.11900
SECONDARY_NW_QUAD_XY: 490223.06000 5031343.01400
SECONDARY_NE_QUAD_XY: 495111.53000 5031337.31500
SECONDARY_SE_QUAD_XY: 495106.13600 5024393.91100
SECONDARY_SW_QUAD_XY: 490212.27300 5024399.61100
RMSE_XY: 1.20000
IMAGE_SOURCE: BLACK AND WHITE FILM
SOURCE_IMAGE_ID: NAPP 9119 80
SOURCE_IMAGE_DATE: 1996 8 26
SOURCE_DEM_DATE: 1974 00 00
AGENCY: ROCKY MOUNTAIN MAPPING CENTER (RMMC)
PRODUCER: ROCKY MOUNTAIN MAPPING CENTER (RMMC)
PRODUCTION_SYSTEM: DV2.6.4 1/00 OV2.6 6/00
COMPRESSION: UNDEFINED
STANDARD_VERSION: 1996 12
METADATA_DATE: 2001 11 16
DATA_FILE_SIZE: 41892475
BYTE_COUNT: 5545
