FILENAME: O4510539.NWS.1167578.tif
QUADRANGLE_NAME: LITTLE PILGRIM BUTTE
QUADRANT: NW
WEST_LONGITUDE: -105 15 0.00000
EAST_LONGITUDE: -105 11 15.00000
NORTH_LATITUDE: 45 30 0.00000
SOUTH_LATITUDE: 45 26 15.00000
PRODUCTION_DATE: 2001 11 19
RASTER_ORDER: LEFT_RIGHT/TOP_BOTTOM
BAND_ORGANIZATION: SINGLE FILE
BAND_CONTENT: BLACK&WHITE
BAND_CONTENT: UNDEFINED
BAND_CONTENT: UNDEFINED
BITS_PER_PIXEL: 8
SAMPLES_AND_LINES: 5550 7561
HORIZONTAL_DATUM: NAD83
HORIZONTAL_COORDINATE_SYSTEM: UTM
COORDINATE_ZONE: 13
HORIZONTAL_UNITS: METERS
HORIZONTAL_RESOLUTION: 1.00000
SECONDARY_HORIZONTAL_DATUM: NAD27
XY_ORIGIN: 480103.00000 5038828.00000
SECONDARY_XY_ORIGIN: 480145.00000 5038612.00000
NATION: US
STATE: MT
NW_QUAD_CORNER_XY: 480468.30100 5038526.89700
NE_QUAD_CORNER_XY: 485351.22500 5038513.60100
SE_QUAD_CORNERY_XY: 485335.02700 5031570.07100
SW_QUAD_CORNER_XY: 480446.70300 5031583.36800
SECONDARY_NW_QUAD_XY: 480467.71800 5038309.29000
SECONDARY_NE_QUAD_XY: 485350.78800 5038295.99300
SECONDARY_SE_QUAD_XY: 485334.59000 5031352.51200
SECONDARY_SW_QUAD_XY: 480446.12000 5031365.81000
RMSE_XY: 1.90000
IMAGE_SOURCE: BLACK AND WHITE FILM
SOURCE_IMAGE_ID: NAPP 9119 196
SOURCE_IMAGE_DATE: 1996 8 26
SOURCE_DEM_DATE: 1973 00 00
AGENCY: ROCKY MOUNTAIN MAPPING CENTER (RMMC)
PRODUCER: ROCKY MOUNTAIN MAPPING CENTER (RMMC)
PRODUCTION_SYSTEM: DV2.6.4 1/00 OV2.6 6/00
COMPRESSION: UNDEFINED
STANDARD_VERSION: 1996 12
METADATA_DATE: 2001 11 19
DATA_FILE_SIZE: 41969100
BYTE_COUNT: 5550
