FILENAME: O4510539.SES.1167579.tif
QUADRANGLE_NAME: LITTLE PILGRIM BUTTE
QUADRANT: SE
WEST_LONGITUDE: -105 11 15.00000
EAST_LONGITUDE: -105 7 30.00000
NORTH_LATITUDE: 45 26 15.00000
SOUTH_LATITUDE: 45 22 30.00000
PRODUCTION_DATE: 2001 11 19
RASTER_ORDER: LEFT_RIGHT/TOP_BOTTOM
BAND_ORGANIZATION: SINGLE FILE
BAND_CONTENT: BLACK&WHITE
BAND_CONTENT: UNDEFINED
BAND_CONTENT: UNDEFINED
BITS_PER_PIXEL: 8
SAMPLES_AND_LINES: 5549 7557
HORIZONTAL_DATUM: NAD83
HORIZONTAL_COORDINATE_SYSTEM: UTM
COORDINATE_ZONE: 13
HORIZONTAL_UNITS: METERS
HORIZONTAL_RESOLUTION: 1.00000
SECONDARY_HORIZONTAL_DATUM: NAD27
XY_ORIGIN: 484976.00000 5031871.00000
SECONDARY_XY_ORIGIN: 485017.72500 5031654.28000
NATION: US
STATE: MT
NW_QUAD_CORNER_XY: 485335.02700 5031570.07100
NE_QUAD_CORNER_XY: 490223.35100 5031560.57300
SE_QUAD_CORNERY_XY: 490212.56400 5024617.11900
SW_QUAD_CORNER_XY: 485318.84600 5024626.61800
SECONDARY_NW_QUAD_XY: 485334.59000 5031352.51200
SECONDARY_NE_QUAD_XY: 490223.06000 5031343.01400
SECONDARY_SE_QUAD_XY: 490212.27300 5024399.61100
SECONDARY_SW_QUAD_XY: 485318.40900 5024409.10900
RMSE_XY: 1.10000
IMAGE_SOURCE: BLACK AND WHITE FILM
SOURCE_IMAGE_ID: NAPP 9102 51
SOURCE_IMAGE_DATE: 1996 7 14
SOURCE_DEM_DATE: 1973 00 00
AGENCY: ROCKY MOUNTAIN MAPPING CENTER (RMMC)
PRODUCER: ROCKY MOUNTAIN MAPPING CENTER (RMMC)
PRODUCTION_SYSTEM: DV2.6.4 1/00 OV2.6 6/00
COMPRESSION: UNDEFINED
STANDARD_VERSION: 1996 12
METADATA_DATE: 2001 11 19
DATA_FILE_SIZE: 41939342
BYTE_COUNT: 5549
