FILENAME: O4510532.NWS.1167574.tif
QUADRANGLE_NAME: MCKENZIE CREEK
QUADRANT: NW
WEST_LONGITUDE: -105 7 30.00000
EAST_LONGITUDE: -105 3 45.00000
NORTH_LATITUDE: 45 37 30.00000
SOUTH_LATITUDE: 45 33 45.00000
PRODUCTION_DATE: 2001 11 19
RASTER_ORDER: LEFT_RIGHT/TOP_BOTTOM
BAND_ORGANIZATION: SINGLE FILE
BAND_CONTENT: BLACK&WHITE
BAND_CONTENT: UNDEFINED
BAND_CONTENT: UNDEFINED
BITS_PER_PIXEL: 8
SAMPLES_AND_LINES: 5528 7553
HORIZONTAL_DATUM: NAD83
HORIZONTAL_COORDINATE_SYSTEM: UTM
COORDINATE_ZONE: 13
HORIZONTAL_UNITS: METERS
HORIZONTAL_RESOLUTION: 1.00000
SECONDARY_HORIZONTAL_DATUM: NAD27
XY_ORIGIN: 489902.00000 5052692.00000
SECONDARY_XY_ORIGIN: 489943.32400 5052474.72400
NATION: US
STATE: MT
NW_QUAD_CORNER_XY: 490255.78300 5052391.39100
NE_QUAD_CORNER_XY: 495127.89100 5052385.69300
SE_QUAD_CORNERY_XY: 495122.48000 5045442.01000
SW_QUAD_CORNER_XY: 490244.96100 5045447.70900
SECONDARY_NW_QUAD_XY: 490255.49100 5052173.68700
SECONDARY_NE_QUAD_XY: 495127.74600 5052167.98900
SECONDARY_SE_QUAD_XY: 495122.33500 5045224.35400
SECONDARY_SW_QUAD_XY: 490244.66900 5045230.05300
RMSE_XY: 1.30000
IMAGE_SOURCE: BLACK AND WHITE FILM
SOURCE_IMAGE_ID: NAPP 9119 86
SOURCE_IMAGE_DATE: 1996 8 26
SOURCE_DEM_DATE: 1972 00 00
AGENCY: ROCKY MOUNTAIN MAPPING CENTER (RMMC)
PRODUCER: ROCKY MOUNTAIN MAPPING CENTER (RMMC)
PRODUCTION_SYSTEM: DV2.6.4 1/00 OV2.6 6/00
COMPRESSION: UNDEFINED
STANDARD_VERSION: 1996 12
METADATA_DATE: 2001 11 19
DATA_FILE_SIZE: 41758512
BYTE_COUNT: 5528
