FILENAME: O4510531.NES.1167569.tif
QUADRANGLE_NAME: DEER CREEK BUTTES
QUADRANT: NE
WEST_LONGITUDE: -105 11 15.00000
EAST_LONGITUDE: -105 7 30.00000
NORTH_LATITUDE: 45 37 30.00000
SOUTH_LATITUDE: 45 33 45.00000
PRODUCTION_DATE: 2001 11 19
RASTER_ORDER: LEFT_RIGHT/TOP_BOTTOM
BAND_ORGANIZATION: SINGLE FILE
BAND_CONTENT: BLACK&WHITE
BAND_CONTENT: UNDEFINED
BAND_CONTENT: UNDEFINED
BITS_PER_PIXEL: 8
SAMPLES_AND_LINES: 5533 7557
HORIZONTAL_DATUM: NAD83
HORIZONTAL_COORDINATE_SYSTEM: UTM
COORDINATE_ZONE: 13
HORIZONTAL_UNITS: METERS
HORIZONTAL_RESOLUTION: 1.00000
SECONDARY_HORIZONTAL_DATUM: NAD27
XY_ORIGIN: 485025.00000 5052702.00000
SECONDARY_XY_ORIGIN: 485066.00000 5052485.00000
NATION: US
STATE: MT
NW_QUAD_CORNER_XY: 485383.67500 5052400.88800
NE_QUAD_CORNER_XY: 490255.78300 5052391.39100
SE_QUAD_CORNERY_XY: 490244.96100 5045447.70900
SW_QUAD_CORNER_XY: 485367.44100 5045457.20600
SECONDARY_NW_QUAD_XY: 485383.23700 5052183.18500
SECONDARY_NE_QUAD_XY: 490255.49100 5052173.68700
SECONDARY_SE_QUAD_XY: 490244.66900 5045230.05300
SECONDARY_SW_QUAD_XY: 485367.00400 5045239.55000
RMSE_XY: 1.00000
IMAGE_SOURCE: BLACK AND WHITE FILM
SOURCE_IMAGE_ID: NAPP 9102 57
SOURCE_IMAGE_DATE: 1996 7 14
SOURCE_DEM_DATE: 1972 00 00
AGENCY: ROCKY MOUNTAIN MAPPING CENTER (RMMC)
PRODUCER: ROCKY MOUNTAIN MAPPING CENTER (RMMC)
PRODUCTION_SYSTEM: DV2.6.4 1/00 OV2.6 6/00
COMPRESSION: UNDEFINED
STANDARD_VERSION: 1996 12
METADATA_DATE: 2001 11 19
DATA_FILE_SIZE: 41818414
BYTE_COUNT: 5533
