FILENAME: O4510524.NWS.1167555.tif
QUADRANGLE_NAME: RATTLESNAKE RIDGE
QUADRANT: NW
WEST_LONGITUDE: -105 7 30.00000
EAST_LONGITUDE: -105 3 45.00000
NORTH_LATITUDE: 45 45 0.00000
SOUTH_LATITUDE: 45 41 15.00000
PRODUCTION_DATE: 2001 11 17
RASTER_ORDER: LEFT_RIGHT/TOP_BOTTOM
BAND_ORGANIZATION: SINGLE FILE
BAND_CONTENT: BLACK&WHITE
BAND_CONTENT: UNDEFINED
BAND_CONTENT: UNDEFINED
BITS_PER_PIXEL: 8
SAMPLES_AND_LINES: 5517 7553
HORIZONTAL_DATUM: NAD83
HORIZONTAL_COORDINATE_SYSTEM: UTM
COORDINATE_ZONE: 13
HORIZONTAL_UNITS: METERS
HORIZONTAL_RESOLUTION: 1.00000
SECONDARY_HORIZONTAL_DATUM: NAD27
XY_ORIGIN: 489924.00000 5066580.00000
SECONDARY_XY_ORIGIN: 489965.00000 5066363.00000
NATION: US
STATE: MT
NW_QUAD_CORNER_XY: 490277.46200 5066278.98500
NE_QUAD_CORNER_XY: 495138.73100 5066273.28700
SE_QUAD_CORNERY_XY: 495133.30800 5059329.45200
SW_QUAD_CORNER_XY: 490266.61700 5059335.15000
SECONDARY_NW_QUAD_XY: 490277.17100 5066061.18900
SECONDARY_NE_QUAD_XY: 495138.58500 5066055.49100
SECONDARY_SE_QUAD_XY: 495133.16300 5059111.70100
SECONDARY_SW_QUAD_XY: 490266.32500 5059117.39900
RMSE_XY: 1.50000
IMAGE_SOURCE: BLACK AND WHITE FILM
SOURCE_IMAGE_ID: NAPP 9119 90
SOURCE_IMAGE_DATE: 1996 8 26
SOURCE_DEM_DATE: 1972 00 00
AGENCY: ROCKY MOUNTAIN MAPPING CENTER (RMMC)
PRODUCER: ROCKY MOUNTAIN MAPPING CENTER (RMMC)
PRODUCTION_SYSTEM: DV2.6.4 1/00 OV2.6 6/00
COMPRESSION: UNDEFINED
STANDARD_VERSION: 1996 12
METADATA_DATE: 2001 11 17
DATA_FILE_SIZE: 41675418
BYTE_COUNT: 5517
