FILENAME: O4510516.NES.1167545.tif
QUADRANGLE_NAME: POWDERVILLE
QUADRANT: NE
WEST_LONGITUDE: -105 3 45.00000
EAST_LONGITUDE: -105 0 0.00000
NORTH_LATITUDE: 45 52 30.00000
SOUTH_LATITUDE: 45 48 45.00000
PRODUCTION_DATE: 2001 11 17
RASTER_ORDER: LEFT_RIGHT/TOP_BOTTOM
BAND_ORGANIZATION: SINGLE FILE
BAND_CONTENT: BLACK&WHITE
BAND_CONTENT: UNDEFINED
BAND_CONTENT: UNDEFINED
BITS_PER_PIXEL: 8
SAMPLES_AND_LINES: 5500 7549
HORIZONTAL_DATUM: NAD83
HORIZONTAL_COORDINATE_SYSTEM: UTM
COORDINATE_ZONE: 13
HORIZONTAL_UNITS: METERS
HORIZONTAL_RESOLUTION: 1.00000
SECONDARY_HORIZONTAL_DATUM: NAD27
XY_ORIGIN: 494802.00000 5080462.00000
SECONDARY_XY_ORIGIN: 494842.00000 5080245.00000
NATION: US
STATE: MT
NW_QUAD_CORNER_XY: 495149.59400 5080161.18700
NE_QUAD_CORNER_XY: 500000.00000 5080159.28800
SE_QUAD_CORNERY_XY: 500000.00000 5073215.30000
SW_QUAD_CORNER_XY: 495144.16000 5073217.19900
SECONDARY_NW_QUAD_XY: 495149.44800 5079943.30100
SECONDARY_NE_QUAD_XY: 500000.00000 5079941.40200
SECONDARY_SE_QUAD_XY: 500000.00000 5072997.45800
SECONDARY_SW_QUAD_XY: 495144.01400 5072999.35700
RMSE_XY: 1.80000
IMAGE_SOURCE: BLACK AND WHITE FILM
SOURCE_IMAGE_ID: NAPP 9119 39
SOURCE_IMAGE_DATE: 1996 8 26
SOURCE_DEM_DATE: 1972 00 00
AGENCY: ROCKY MOUNTAIN MAPPING CENTER (RMMC)
PRODUCER: ROCKY MOUNTAIN MAPPING CENTER (RMMC)
PRODUCTION_SYSTEM: DV2.6.4 1/00 OV2.6 6/00
COMPRESSION: UNDEFINED
STANDARD_VERSION: 1996 12
METADATA_DATE: 2001 11 17
DATA_FILE_SIZE: 41525000
BYTE_COUNT: 5500
