FILENAME: O4510516.SWS.1167548.tif
QUADRANGLE_NAME: POWDERVILLE
QUADRANT: SW
WEST_LONGITUDE: -105 7 30.00000
EAST_LONGITUDE: -105 3 45.00000
NORTH_LATITUDE: 45 48 45.00000
SOUTH_LATITUDE: 45 45 0.00000
PRODUCTION_DATE: 2001 11 17
RASTER_ORDER: LEFT_RIGHT/TOP_BOTTOM
BAND_ORGANIZATION: SINGLE FILE
BAND_CONTENT: BLACK&WHITE
BAND_CONTENT: UNDEFINED
BAND_CONTENT: UNDEFINED
BITS_PER_PIXEL: 8
SAMPLES_AND_LINES: 5511 7553
HORIZONTAL_DATUM: NAD83
HORIZONTAL_COORDINATE_SYSTEM: UTM
COORDINATE_ZONE: 13
HORIZONTAL_UNITS: METERS
HORIZONTAL_RESOLUTION: 1.00000
SECONDARY_HORIZONTAL_DATUM: NAD27
XY_ORIGIN: 489935.00000 5073524.00000
SECONDARY_XY_ORIGIN: 489976.00000 5073307.00000
NATION: US
STATE: MT
NW_QUAD_CORNER_XY: 490288.32000 5073222.89600
NE_QUAD_CORNER_XY: 495144.16000 5073217.19900
SE_QUAD_CORNERY_XY: 495138.73100 5066273.28700
SW_QUAD_CORNER_XY: 490277.46200 5066278.98500
SECONDARY_NW_QUAD_XY: 490288.02800 5073005.05500
SECONDARY_NE_QUAD_XY: 495144.01400 5072999.35700
SECONDARY_SE_QUAD_XY: 495138.58500 5066055.49100
SECONDARY_SW_QUAD_XY: 490277.17100 5066061.18900
RMSE_XY: 1.20000
IMAGE_SOURCE: BLACK AND WHITE FILM
SOURCE_IMAGE_ID: NAPP 9119 92
SOURCE_IMAGE_DATE: 1996 8 26
SOURCE_DEM_DATE: 1972 00 00
AGENCY: ROCKY MOUNTAIN MAPPING CENTER (RMMC)
PRODUCER: ROCKY MOUNTAIN MAPPING CENTER (RMMC)
PRODUCTION_SYSTEM: DV2.6.4 1/00 OV2.6 6/00
COMPRESSION: UNDEFINED
STANDARD_VERSION: 1996 12
METADATA_DATE: 2001 11 17
DATA_FILE_SIZE: 41630094
BYTE_COUNT: 5511
