FILENAME: O4510515.SES.1167542.tif
QUADRANGLE_NAME: SNAKE BUTTE
QUADRANT: SE
WEST_LONGITUDE: -105 11 15.00000
EAST_LONGITUDE: -105 7 30.00000
NORTH_LATITUDE: 45 48 45.00000
SOUTH_LATITUDE: 45 45 0.00000
PRODUCTION_DATE: 2001 11 17
RASTER_ORDER: LEFT_RIGHT/TOP_BOTTOM
BAND_ORGANIZATION: SINGLE FILE
BAND_CONTENT: BLACK&WHITE
BAND_CONTENT: UNDEFINED
BAND_CONTENT: UNDEFINED
BITS_PER_PIXEL: 8
SAMPLES_AND_LINES: 5516 7556
HORIZONTAL_DATUM: NAD83
HORIZONTAL_COORDINATE_SYSTEM: UTM
COORDINATE_ZONE: 13
HORIZONTAL_UNITS: METERS
HORIZONTAL_RESOLUTION: 1.00000
SECONDARY_HORIZONTAL_DATUM: NAD27
XY_ORIGIN: 485074.00000 5073533.00000
SECONDARY_XY_ORIGIN: 485115.10800 5073315.17400
NATION: US
STATE: MT
NW_QUAD_CORNER_XY: 485432.48000 5073232.39200
NE_QUAD_CORNER_XY: 490288.32000 5073222.89600
SE_QUAD_CORNERY_XY: 490277.46200 5066278.98500
SW_QUAD_CORNER_XY: 485416.19400 5066288.48100
SECONDARY_NW_QUAD_XY: 485432.04200 5073014.55100
SECONDARY_NE_QUAD_XY: 490288.02800 5073005.05500
SECONDARY_SE_QUAD_XY: 490277.17100 5066061.18900
SECONDARY_SW_QUAD_XY: 485415.75600 5066070.68500
RMSE_XY: 1.90000
IMAGE_SOURCE: BLACK AND WHITE FILM
SOURCE_IMAGE_ID: NAPP 9119 171
SOURCE_IMAGE_DATE: 1996 8 26
SOURCE_DEM_DATE: 1972 00 00
AGENCY: ROCKY MOUNTAIN MAPPING CENTER (RMMC)
PRODUCER: ROCKY MOUNTAIN MAPPING CENTER (RMMC)
PRODUCTION_SYSTEM: DV2.6.4 1/00 OV2.6 6/00
COMPRESSION: UNDEFINED
STANDARD_VERSION: 1996 12
METADATA_DATE: 2001 11 17
DATA_FILE_SIZE: 41684412
BYTE_COUNT: 5516
