FILENAME: O4510664.SES.840639.tif
QUADRANGLE_NAME: SAYLE HALL
QUADRANT: SE
WEST_LONGITUDE: -106 3 45.00000
EAST_LONGITUDE: -106 0 0.00000
NORTH_LATITUDE: 45 3 45.00000
SOUTH_LATITUDE: 45 0 0.00000
PRODUCTION_DATE: 1997 11 21
RASTER_ORDER: LEFT_RIGHT/TOP_BOTTOM
BAND_ORGANIZATION: SINGLE FILE
BAND_CONTENT: BLACK&WHITE
BAND_CONTENT: UNDEFINED
BAND_CONTENT: UNDEFINED
BITS_PER_PIXEL: 8
SAMPLES_AND_LINES: 5656 7606
HORIZONTAL_DATUM: NAD83
HORIZONTAL_COORDINATE_SYSTEM: UTM
COORDINATE_ZONE: 13
HORIZONTAL_UNITS: METERS
HORIZONTAL_RESOLUTION: 1.00000
SECONDARY_HORIZONTAL_DATUM: NAD27
XY_ORIGIN: 415914.50000 4990741.50000
SECONDARY_XY_ORIGIN: 415957.28300 4990524.93800
NATION: US
STATE: MT
NW_QUAD_CORNER_XY: 416349.84100 4990442.46500
NE_QUAD_CORNER_XY: 421270.43800 4990379.76500
SE_QUAD_CORNERY_XY: 421184.69700 4983436.76900
SW_QUAD_CORNER_XY: 416258.74000 4983499.46800
SECONDARY_NW_QUAD_XY: 416347.36900 4990225.23500
SECONDARY_NE_QUAD_XY: 421268.11200 4990162.53400
SECONDARY_SE_QUAD_XY: 421182.37100 4983219.59200
SECONDARY_SW_QUAD_XY: 416256.26800 4983282.29400
RMSE_XY: 1.08000
IMAGE_SOURCE: BLACK & WHITE FILM
SOURCE_IMAGE_ID: NAPP 3731 182
SOURCE_IMAGE_DATE: 1991 06 12
SOURCE_DEM_DATE: 1972 01 01
AGENCY: WESTERN MAPPING CENTER (WMC)
PRODUCER: NIES MAPPING GROUP, INC.
PRODUCTION_SYSTEM: INTERGRAPH MODEL_SETUP, BASE_RECTIFIER
COMPRESSION: UNDEFINED
STANDARD_VERSION: 1996 12
METADATA_DATE: 1997 11 21
DATA_FILE_SIZE: 43025192
BYTE_COUNT: 5656
