FILENAME: O4510664.SWS.840640.tif
QUADRANGLE_NAME: SAYLE HALL
QUADRANT: SW
WEST_LONGITUDE: -106 7 30.00000
EAST_LONGITUDE: -106 3 45.00000
NORTH_LATITUDE: 45 3 45.00000
SOUTH_LATITUDE: 45 0 0.00000
PRODUCTION_DATE: 1997 11 21
RASTER_ORDER: LEFT_RIGHT/TOP_BOTTOM
BAND_ORGANIZATION: SINGLE FILE
BAND_CONTENT: BLACK&WHITE
BAND_CONTENT: UNDEFINED
BAND_CONTENT: UNDEFINED
BITS_PER_PIXEL: 8
SAMPLES_AND_LINES: 5661 7609
HORIZONTAL_DATUM: NAD83
HORIZONTAL_COORDINATE_SYSTEM: UTM
COORDINATE_ZONE: 13
HORIZONTAL_UNITS: METERS
HORIZONTAL_RESOLUTION: 1.00000
SECONDARY_HORIZONTAL_DATUM: NAD27
XY_ORIGIN: 410988.50000 4990807.50000
SECONDARY_XY_ORIGIN: 411031.41600 4990590.82800
NATION: US
STATE: MT
NW_QUAD_CORNER_XY: 411429.24400 4990508.96500
NE_QUAD_CORNER_XY: 416349.84100 4990442.46500
SE_QUAD_CORNERY_XY: 416258.74000 4983499.46800
SW_QUAD_CORNER_XY: 411332.78200 4983565.96900
SECONDARY_NW_QUAD_XY: 411426.62600 4990291.73700
SECONDARY_NE_QUAD_XY: 416347.36900 4990225.23500
SECONDARY_SE_QUAD_XY: 416256.26800 4983282.29400
SECONDARY_SW_QUAD_XY: 411330.16500 4983348.79600
RMSE_XY: 1.98000
IMAGE_SOURCE: BLACK & WHITE FILM
SOURCE_IMAGE_ID: NAPP 3731 108
SOURCE_IMAGE_DATE: 1991 06 12
SOURCE_DEM_DATE: 1972 01 01
AGENCY: WESTERN MAPPING CENTER (WMC)
PRODUCER: NIES MAPPING GROUP, INC.
PRODUCTION_SYSTEM: INTERGRAPH MODEL_SETUP, BASE_RECTIFIER
COMPRESSION: UNDEFINED
STANDARD_VERSION: 1996 12
METADATA_DATE: 1997 11 21
DATA_FILE_SIZE: 43080210
BYTE_COUNT: 5661
