FILENAME: O4510663.NES.1010832.tif
QUADRANGLE_NAME: BEAR CREEK SCHOOL
QUADRANT: NE
WEST_LONGITUDE: -106 11 15.00000
EAST_LONGITUDE: -106 7 30.00000
NORTH_LATITUDE: 45 7 30.00000
SOUTH_LATITUDE: 45 3 45.00000
PRODUCTION_DATE: 1999 6 8
RASTER_ORDER: LEFT_RIGHT/TOP_BOTTOM
BAND_ORGANIZATION: SINGLE FILE
BAND_CONTENT: BLACK&WHITE
BAND_CONTENT: UNDEFINED
BAND_CONTENT: UNDEFINED
BITS_PER_PIXEL: 8
SAMPLES_AND_LINES: 5666 7617
HORIZONTAL_DATUM: NAD83
HORIZONTAL_COORDINATE_SYSTEM: UTM
COORDINATE_ZONE: 13
HORIZONTAL_UNITS: METERS
HORIZONTAL_RESOLUTION: 1.00000
SECONDARY_HORIZONTAL_DATUM: NAD27
XY_ORIGIN: 406161.00000 4997823.00000
SECONDARY_XY_ORIGIN: 406203.85000 4997606.01600
NATION: US
NATION: "SCIENCE
STATE: MT
NW_QUAD_CORNER_XY: 406610.58100 4997522.33600
NE_QUAD_CORNER_XY: 411525.81200 4997452.03500
SE_QUAD_CORNERY_XY: 411429.24400 4990508.96500
SW_QUAD_CORNER_XY: 406508.64700 4990579.26600
SECONDARY_NW_QUAD_XY: 406607.81700 4997305.05600
SECONDARY_NE_QUAD_XY: 411523.19300 4997234.75200
SECONDARY_SE_QUAD_XY: 411426.62600 4990291.73700
SECONDARY_SW_QUAD_XY: 406505.88400 4990362.04000
RMSE_XY: 2.30000
IMAGE_SOURCE: BLACK AND WHITE FILM
SOURCE_IMAGE_ID: NAPP 9090 116
SOURCE_IMAGE_DATE: 1996 07 07
SOURCE_IMAGE_ID: NAPP 9090 117
SOURCE_IMAGE_DATE: 1996 07 07
SOURCE_DEM_DATE: 1992 03 00
AGENCY: WESTERN MAPPING CENTER (WMC)
PRODUCER: UNDEFINED
PRODUCTION_SYSTEM: GIS/MAGIC
COMPRESSION: UNDEFINED
STANDARD_VERSION: 1996 12
METADATA_DATE: 1999 06 15
DATA_FILE_SIZE: 43163588
BYTE_COUNT: 5666
