FILENAME: O4510657.NWS.1010773.tif
QUADRANGLE_NAME: PEARL SCHOOL
QUADRANT: NW
WEST_LONGITUDE: -107 0 0.00000
EAST_LONGITUDE: -106 56 15.00000
NORTH_LATITUDE: 45 7 30.00000
SOUTH_LATITUDE: 45 3 45.00000
PRODUCTION_DATE: 1999 6 11
RASTER_ORDER: LEFT_RIGHT/TOP_BOTTOM
BAND_ORGANIZATION: SINGLE FILE
BAND_CONTENT: BLACK&WHITE
BAND_CONTENT: UNDEFINED
BAND_CONTENT: UNDEFINED
BITS_PER_PIXEL: 8
SAMPLES_AND_LINES: 5739 7668
HORIZONTAL_DATUM: NAD83
HORIZONTAL_COORDINATE_SYSTEM: UTM
COORDINATE_ZONE: 13
HORIZONTAL_UNITS: METERS
HORIZONTAL_RESOLUTION: 1.00000
SECONDARY_HORIZONTAL_DATUM: NAD27
XY_ORIGIN: 342190.00000 4999083.00000
SECONDARY_XY_ORIGIN: 342234.74300 4998867.51300
NATION: US
NATION: "SCIENCE
STATE: MT
NW_QUAD_CORNER_XY: 342712.61800 4998782.23200
NE_QUAD_CORNER_XY: 347627.84300 4998662.49900
SE_QUAD_CORNERY_XY: 347461.49000 4991719.43500
SW_QUAD_CORNER_XY: 342540.89500 4991839.16800
SECONDARY_NW_QUAD_XY: 342707.96300 4998564.99000
SECONDARY_NE_QUAD_XY: 347623.33300 4998445.25300
SECONDARY_SE_QUAD_XY: 347456.98100 4991502.24300
SECONDARY_SW_QUAD_XY: 342536.24000 4991621.98000
RMSE_XY: 2.70000
IMAGE_SOURCE: BLACK AND WHITE FILM
SOURCE_IMAGE_ID: NAPP 9085 184
SOURCE_IMAGE_DATE: 1996 06 13
SOURCE_IMAGE_ID: NAPP 9099 157
SOURCE_IMAGE_DATE: 1996 07 14
SOURCE_IMAGE_ID: NAPP 9099 155
SOURCE_IMAGE_DATE: 1996 07 14
SOURCE_IMAGE_ID: NAPP 9099 016
SOURCE_IMAGE_DATE: 1996 07 14
SOURCE_IMAGE_ID: NAPP 9099 018
SOURCE_IMAGE_DATE: 1996 07 14
SOURCE_DEM_DATE: 1994 05 00
AGENCY: WESTERN MAPPING CENTER (WMC)
PRODUCER: UNDEFINED
PRODUCTION_SYSTEM: GIS/MAGIC
COMPRESSION: UNDEFINED
STANDARD_VERSION: 1996 12
METADATA_DATE: 1999 06 15
DATA_FILE_SIZE: 44012391
BYTE_COUNT: 5739
