FILENAME: O4510657.SWS.1010775.tif
QUADRANGLE_NAME: PEARL SCHOOL
QUADRANT: SW
WEST_LONGITUDE: -107 0 0.00000
EAST_LONGITUDE: -106 56 15.00000
NORTH_LATITUDE: 45 3 45.00000
SOUTH_LATITUDE: 45 0 0.00000
PRODUCTION_DATE: 1999 6 11
RASTER_ORDER: LEFT_RIGHT/TOP_BOTTOM
BAND_ORGANIZATION: SINGLE FILE
BAND_CONTENT: BLACK&WHITE
BAND_CONTENT: UNDEFINED
BAND_CONTENT: UNDEFINED
BITS_PER_PIXEL: 8
SAMPLES_AND_LINES: 5745 7668
HORIZONTAL_DATUM: NAD83
HORIZONTAL_COORDINATE_SYSTEM: UTM
COORDINATE_ZONE: 13
HORIZONTAL_UNITS: METERS
HORIZONTAL_RESOLUTION: 1.00000
SECONDARY_HORIZONTAL_DATUM: NAD27
XY_ORIGIN: 342018.00000 4992140.00000
SECONDARY_XY_ORIGIN: 342062.83100 4991924.62200
NATION: US
NATION: "SCIENCE
STATE: MT
NW_QUAD_CORNER_XY: 342540.89500 4991839.16800
NE_QUAD_CORNER_XY: 347461.49000 4991719.43500
SE_QUAD_CORNERY_XY: 347295.31900 4984776.43700
SW_QUAD_CORNER_XY: 342369.35900 4984896.17100
SECONDARY_NW_QUAD_XY: 342536.24000 4991621.98000
SECONDARY_NE_QUAD_XY: 347456.98100 4991502.24300
SECONDARY_SE_QUAD_XY: 347290.81200 4984559.30000
SECONDARY_SW_QUAD_XY: 342364.70600 4984679.03800
RMSE_XY: 1.90000
IMAGE_SOURCE: BLACK AND WHITE FILM
SOURCE_IMAGE_ID: NAPP 9099 015
SOURCE_IMAGE_DATE: 1996 07 14
SOURCE_IMAGE_ID: NAPP 9099 157
SOURCE_IMAGE_DATE: 1996 07 14
SOURCE_IMAGE_ID: NAPP 9099 014
SOURCE_IMAGE_DATE: 1996 07 14
SOURCE_IMAGE_ID: NAPP 9099 016
SOURCE_IMAGE_DATE: 1996 07 14
SOURCE_IMAGE_ID: NAPP 9085 188
SOURCE_IMAGE_DATE: 1996 06 13
SOURCE_DEM_DATE: 1994 05 00
AGENCY: WESTERN MAPPING CENTER (WMC)
PRODUCER: UNDEFINED
PRODUCTION_SYSTEM: GIS/MAGIC
COMPRESSION: UNDEFINED
STANDARD_VERSION: 1996 12
METADATA_DATE: 1999 06 15
DATA_FILE_SIZE: 44058405
BYTE_COUNT: 5745
