FILENAME: O4510654.NES.1010728.tif
QUADRANGLE_NAME: HAMILTON DRAW
QUADRANT: NE
WEST_LONGITUDE: -106 18 45.00000
EAST_LONGITUDE: -106 15 0.00000
NORTH_LATITUDE: 45 15 0.00000
SOUTH_LATITUDE: 45 11 15.00000
PRODUCTION_DATE: 1999 5 24
RASTER_ORDER: LEFT_RIGHT/TOP_BOTTOM
BAND_ORGANIZATION: SINGLE FILE
BAND_CONTENT: BLACK&WHITE
BAND_CONTENT: UNDEFINED
BAND_CONTENT: UNDEFINED
BITS_PER_PIXEL: 8
SAMPLES_AND_LINES: 5667 7624
HORIZONTAL_DATUM: NAD83
HORIZONTAL_COORDINATE_SYSTEM: UTM
COORDINATE_ZONE: 13
HORIZONTAL_UNITS: METERS
HORIZONTAL_RESOLUTION: 1.00000
SECONDARY_HORIZONTAL_DATUM: NAD27
XY_ORIGIN: 396545.00000 5011861.00000
SECONDARY_XY_ORIGIN: 396587.75600 5011643.59500
NATION: US
NATION: "SCIENCE
STATE: MT
NW_QUAD_CORNER_XY: 397005.82600 5011560.69700
NE_QUAD_CORNER_XY: 401910.30500 5011482.79500
SE_QUAD_CORNERY_XY: 401802.76900 5004539.58000
SW_QUAD_CORNER_XY: 396892.91200 5004617.48300
SECONDARY_NW_QUAD_XY: 397002.77000 5011343.31500
SECONDARY_NE_QUAD_XY: 401907.39400 5011265.41100
SECONDARY_SE_QUAD_XY: 401799.85900 5004322.24900
SECONDARY_SW_QUAD_XY: 396889.85600 5004400.15400
RMSE_XY: 2.60000
IMAGE_SOURCE: BLACK AND WHITE FILM
SOURCE_IMAGE_ID: NAPP 10722 017
SOURCE_IMAGE_DATE: 1997 08 25
SOURCE_IMAGE_ID: NAPP 9102 097
SOURCE_IMAGE_DATE: 1996 07 14
SOURCE_IMAGE_ID: NAPP 10722 016
SOURCE_IMAGE_DATE: 1997 08 25
SOURCE_IMAGE_ID: NAPP 10722 018
SOURCE_IMAGE_DATE: 1997 08 25
SOURCE_DEM_DATE: 1997 01 01
AGENCY: WESTERN MAPPING CENTER (WMC)
PRODUCER: UNDEFINED
PRODUCTION_SYSTEM: GIS/MAGIC
COMPRESSION: UNDEFINED
STANDARD_VERSION: 1996 12
METADATA_DATE: 1999 06 09
DATA_FILE_SIZE: 43210875
BYTE_COUNT: 5667
