FILENAME: O4510654.SWS.1010731.tif
QUADRANGLE_NAME: HAMILTON DRAW
QUADRANT: SW
WEST_LONGITUDE: -106 22 30.00000
EAST_LONGITUDE: -106 18 45.00000
NORTH_LATITUDE: 45 11 15.00000
SOUTH_LATITUDE: 45 7 30.00000
PRODUCTION_DATE: 1999 5 24
RASTER_ORDER: LEFT_RIGHT/TOP_BOTTOM
BAND_ORGANIZATION: SINGLE FILE
BAND_CONTENT: BLACK&WHITE
BAND_CONTENT: UNDEFINED
BAND_CONTENT: UNDEFINED
BITS_PER_PIXEL: 8
SAMPLES_AND_LINES: 5677 7628
HORIZONTAL_DATUM: NAD83
HORIZONTAL_COORDINATE_SYSTEM: UTM
COORDINATE_ZONE: 13
HORIZONTAL_UNITS: METERS
HORIZONTAL_RESOLUTION: 1.00000
SECONDARY_HORIZONTAL_DATUM: NAD27
XY_ORIGIN: 391517.00000 5005000.00000
SECONDARY_XY_ORIGIN: 391560.11800 5004782.94300
NATION: US
NATION: "SCIENCE
STATE: MT
NW_QUAD_CORNER_XY: 391983.05500 5004699.18800
NE_QUAD_CORNER_XY: 396892.91200 5004617.48300
SE_QUAD_CORNERY_XY: 396780.12000 4997674.34200
SW_QUAD_CORNER_XY: 391864.89100 4997756.04700
SECONDARY_NW_QUAD_XY: 391979.85400 5004481.86100
SECONDARY_NE_QUAD_XY: 396889.85600 5004400.15400
SECONDARY_SE_QUAD_XY: 396777.06500 4997457.06600
SECONDARY_SW_QUAD_XY: 391861.69000 4997538.77400
RMSE_XY: 2.30000
IMAGE_SOURCE: BLACK AND WHITE FILM
SOURCE_IMAGE_ID: NAPP 9102 100
SOURCE_IMAGE_DATE: 1996 07 14
SOURCE_IMAGE_ID: NAPP 9097 094
SOURCE_IMAGE_DATE: 1996 07 12
SOURCE_DEM_DATE: 1997 01 01
AGENCY: WESTERN MAPPING CENTER (WMC)
PRODUCER: UNDEFINED
PRODUCTION_SYSTEM: GIS/MAGIC
COMPRESSION: UNDEFINED
STANDARD_VERSION: 1996 12
METADATA_DATE: 1999 06 09
DATA_FILE_SIZE: 43309833
BYTE_COUNT: 5677
