FILENAME: O4510653.NWS.1010716.tif
QUADRANGLE_NAME: STROUD CREEK
QUADRANT: NW
WEST_LONGITUDE: -106 30 0.00000
EAST_LONGITUDE: -106 26 15.00000
NORTH_LATITUDE: 45 15 0.00000
SOUTH_LATITUDE: 45 11 15.00000
PRODUCTION_DATE: 1999 5 24
RASTER_ORDER: LEFT_RIGHT/TOP_BOTTOM
BAND_ORGANIZATION: SINGLE FILE
BAND_CONTENT: BLACK&WHITE
BAND_CONTENT: UNDEFINED
BAND_CONTENT: UNDEFINED
BITS_PER_PIXEL: 8
SAMPLES_AND_LINES: 5683 7636
HORIZONTAL_DATUM: NAD83
HORIZONTAL_COORDINATE_SYSTEM: UTM
COORDINATE_ZONE: 13
HORIZONTAL_UNITS: METERS
HORIZONTAL_RESOLUTION: 1.00000
SECONDARY_HORIZONTAL_DATUM: NAD27
XY_ORIGIN: 381815.00000 5012118.00000
SECONDARY_XY_ORIGIN: 381858.22600 5011900.95800
NATION: US
NATION: "SCIENCE
STATE: MT
NW_QUAD_CORNER_XY: 382292.39600 5011817.21200
NE_QUAD_CORNER_XY: 387196.87200 5011727.90600
SE_QUAD_CORNERY_XY: 387073.19900 5004784.69400
SW_QUAD_CORNER_XY: 382163.34400 5004874.00200
SECONDARY_NW_QUAD_XY: 382288.90200 5011599.83900
SECONDARY_NE_QUAD_XY: 387193.52400 5011510.52900
SECONDARY_SE_QUAD_XY: 387069.85200 5004567.37000
SECONDARY_SW_QUAD_XY: 382159.85100 5004656.68100
RMSE_XY: 1.20000
IMAGE_SOURCE: BLACK AND WHITE FILM
SOURCE_IMAGE_ID: NAPP 9115 177
SOURCE_IMAGE_DATE: 1996 09 10
SOURCE_IMAGE_ID: NAPP 9115 178
SOURCE_IMAGE_DATE: 1996 09 10
SOURCE_IMAGE_ID: NAPP 9115 176
SOURCE_IMAGE_DATE: 1996 09 10
SOURCE_DEM_DATE: 1997 01 01
AGENCY: WESTERN MAPPING CENTER (WMC)
PRODUCER: UNDEFINED
PRODUCTION_SYSTEM: GIS/MAGIC
COMPRESSION: UNDEFINED
STANDARD_VERSION: 1996 12
METADATA_DATE: 1999 06 09
DATA_FILE_SIZE: 43401071
BYTE_COUNT: 5683
