FILENAME: O4510653.SES.1010717.tif
QUADRANGLE_NAME: STROUD CREEK
QUADRANT: SE
WEST_LONGITUDE: -106 26 15.00000
EAST_LONGITUDE: -106 22 30.00000
NORTH_LATITUDE: 45 11 15.00000
SOUTH_LATITUDE: 45 7 30.00000
PRODUCTION_DATE: 1999 5 24
RASTER_ORDER: LEFT_RIGHT/TOP_BOTTOM
BAND_ORGANIZATION: SINGLE FILE
BAND_CONTENT: BLACK&WHITE
BAND_CONTENT: UNDEFINED
BAND_CONTENT: UNDEFINED
BITS_PER_PIXEL: 8
SAMPLES_AND_LINES: 5684 7632
HORIZONTAL_DATUM: NAD83
HORIZONTAL_COORDINATE_SYSTEM: UTM
COORDINATE_ZONE: 13
HORIZONTAL_UNITS: METERS
HORIZONTAL_RESOLUTION: 1.00000
SECONDARY_HORIZONTAL_DATUM: NAD27
XY_ORIGIN: 386601.00000 5005085.00000
SECONDARY_XY_ORIGIN: 386644.28000 5004868.06800
NATION: US
NATION: "SCIENCE
STATE: MT
NW_QUAD_CORNER_XY: 387073.19900 5004784.69400
NE_QUAD_CORNER_XY: 391983.05500 5004699.18800
SE_QUAD_CORNERY_XY: 391864.89100 4997756.04700
SW_QUAD_CORNER_XY: 386949.66100 4997841.55400
SECONDARY_NW_QUAD_XY: 387069.85200 5004567.37000
SECONDARY_NE_QUAD_XY: 391979.85400 5004481.86100
SECONDARY_SE_QUAD_XY: 391861.69000 4997538.77400
SECONDARY_SW_QUAD_XY: 386946.31500 4997624.28400
RMSE_XY: 2.30000
IMAGE_SOURCE: BLACK AND WHITE FILM
SOURCE_IMAGE_ID: NAPP 9106 214
SOURCE_IMAGE_DATE: 1996 08 07
SOURCE_IMAGE_ID: NAPP 9106 215
SOURCE_IMAGE_DATE: 1996 08 07
SOURCE_DEM_DATE: 1997 01 01
AGENCY: WESTERN MAPPING CENTER (WMC)
PRODUCER: UNDEFINED
PRODUCTION_SYSTEM: GIS/MAGIC
COMPRESSION: UNDEFINED
STANDARD_VERSION: 1996 12
METADATA_DATE: 1999 06 09
DATA_FILE_SIZE: 43385972
BYTE_COUNT: 5684
