FILENAME: O4510653.SWS.1010718.tif
QUADRANGLE_NAME: STROUD CREEK
QUADRANT: SW
WEST_LONGITUDE: -106 30 0.00000
EAST_LONGITUDE: -106 26 15.00000
NORTH_LATITUDE: 45 11 15.00000
SOUTH_LATITUDE: 45 7 30.00000
PRODUCTION_DATE: 1999 5 24
RASTER_ORDER: LEFT_RIGHT/TOP_BOTTOM
BAND_ORGANIZATION: SINGLE FILE
BAND_CONTENT: BLACK&WHITE
BAND_CONTENT: UNDEFINED
BAND_CONTENT: UNDEFINED
BITS_PER_PIXEL: 8
SAMPLES_AND_LINES: 5689 7637
HORIZONTAL_DATUM: NAD83
HORIZONTAL_COORDINATE_SYSTEM: UTM
COORDINATE_ZONE: 13
HORIZONTAL_UNITS: METERS
HORIZONTAL_RESOLUTION: 1.00000
SECONDARY_HORIZONTAL_DATUM: NAD27
XY_ORIGIN: 381686.00000 5005175.00000
SECONDARY_XY_ORIGIN: 381729.44200 5004958.19300
NATION: US
NATION: "SCIENCE
STATE: MT
NW_QUAD_CORNER_XY: 382163.34400 5004874.00200
NE_QUAD_CORNER_XY: 387073.19900 5004784.69400
SE_QUAD_CORNERY_XY: 386949.66100 4997841.55400
SW_QUAD_CORNER_XY: 382034.43200 4997930.86300
SECONDARY_NW_QUAD_XY: 382159.85100 5004656.68100
SECONDARY_NE_QUAD_XY: 387069.85200 5004567.37000
SECONDARY_SE_QUAD_XY: 386946.31500 4997624.28400
SECONDARY_SW_QUAD_XY: 382030.94100 4997713.59500
RMSE_XY: 1.30000
IMAGE_SOURCE: BLACK AND WHITE FILM
SOURCE_IMAGE_ID: NAPP 9115 179
SOURCE_IMAGE_DATE: 1996 09 10
SOURCE_IMAGE_ID: NAPP 9115 180
SOURCE_IMAGE_DATE: 1996 09 10
SOURCE_IMAGE_ID: NAPP 9115 178
SOURCE_IMAGE_DATE: 1996 09 10
SOURCE_DEM_DATE: 1997 01 01
AGENCY: WESTERN MAPPING CENTER (WMC)
PRODUCER: UNDEFINED
PRODUCTION_SYSTEM: GIS/MAGIC
COMPRESSION: UNDEFINED
STANDARD_VERSION: 1996 12
METADATA_DATE: 1999 06 09
DATA_FILE_SIZE: 43452582
BYTE_COUNT: 5689
