FILENAME: O4510652.NWS.1010418.tif
QUADRANGLE_NAME: LACEY GULCH
QUADRANT: NW
WEST_LONGITUDE: -106 37 30.00000
EAST_LONGITUDE: -106 33 45.00000
NORTH_LATITUDE: 45 15 0.00000
SOUTH_LATITUDE: 45 11 15.00000
PRODUCTION_DATE: 1999 6 2
RASTER_ORDER: LEFT_RIGHT/TOP_BOTTOM
BAND_ORGANIZATION: SINGLE FILE
BAND_CONTENT: BLACK&WHITE
BAND_CONTENT: UNDEFINED
BAND_CONTENT: UNDEFINED
BITS_PER_PIXEL: 8
SAMPLES_AND_LINES: 5694 7644
HORIZONTAL_DATUM: NAD83
HORIZONTAL_COORDINATE_SYSTEM: UTM
COORDINATE_ZONE: 13
HORIZONTAL_UNITS: METERS
HORIZONTAL_RESOLUTION: 1.00000
SECONDARY_HORIZONTAL_DATUM: NAD27
XY_ORIGIN: 371995.00000 5012308.00000
SECONDARY_XY_ORIGIN: 372038.59000 5012091.33000
NATION: US
NATION: "SCIENCE
STATE: MT
NW_QUAD_CORNER_XY: 372483.44700 5012007.23300
NE_QUAD_CORNER_XY: 377387.92100 5011910.32100
SE_QUAD_CORNERY_XY: 377253.48900 5004967.11300
SW_QUAD_CORNER_XY: 372343.63500 5005064.02500
SECONDARY_NW_QUAD_XY: 372479.66300 5011789.86500
SECONDARY_NE_QUAD_XY: 377384.28200 5011692.95000
SECONDARY_SE_QUAD_XY: 377249.85100 5004749.79400
SECONDARY_SW_QUAD_XY: 372339.85200 5004846.70900
RMSE_XY: 1.20000
IMAGE_SOURCE: BLACK AND WHITE FILM
SOURCE_IMAGE_ID: NAPP 9111 012
SOURCE_IMAGE_DATE: 1996 08 11
SOURCE_IMAGE_ID: NAPP 9111 013
SOURCE_IMAGE_DATE: 1996 08 11
SOURCE_DEM_DATE: 1966 00 00
AGENCY: WESTERN MAPPING CENTER (WMC)
PRODUCER: UNDEFINED
PRODUCTION_SYSTEM: GIS/MAGIC
COMPRESSION: UNDEFINED
STANDARD_VERSION: 1996 12
METADATA_DATE: 1999 06 14
DATA_FILE_SIZE: 43530630
BYTE_COUNT: 5694
