FILENAME: O4510651.SES.1010407.tif
QUADRANGLE_NAME: SPRING GULCH
QUADRANT: SE
WEST_LONGITUDE: -106 41 15.00000
EAST_LONGITUDE: -106 37 30.00000
NORTH_LATITUDE: 45 11 15.00000
SOUTH_LATITUDE: 45 7 30.00000
PRODUCTION_DATE: 1999 6 2
RASTER_ORDER: LEFT_RIGHT/TOP_BOTTOM
BAND_ORGANIZATION: SINGLE FILE
BAND_CONTENT: BLACK&WHITE
BAND_CONTENT: UNDEFINED
BAND_CONTENT: UNDEFINED
BITS_PER_PIXEL: 8
SAMPLES_AND_LINES: 5706 7648
HORIZONTAL_DATUM: NAD83
HORIZONTAL_COORDINATE_SYSTEM: UTM
COORDINATE_ZONE: 13
HORIZONTAL_UNITS: METERS
HORIZONTAL_RESOLUTION: 1.00000
SECONDARY_HORIZONTAL_DATUM: NAD27
XY_ORIGIN: 366939.00000 5005465.00000
SECONDARY_XY_ORIGIN: 366982.99200 5005248.73200
NATION: US
NATION: "SCIENCE
STATE: MT
NW_QUAD_CORNER_XY: 367433.78200 5005164.74000
NE_QUAD_CORNER_XY: 372343.63500 5005064.02500
SE_QUAD_CORNERY_XY: 372203.97600 4998120.88800
SW_QUAD_CORNER_XY: 367288.74800 4998221.60400
SECONDARY_NW_QUAD_XY: 367429.85300 5004947.42800
SECONDARY_NE_QUAD_XY: 372339.85200 5004846.70900
SECONDARY_SE_QUAD_XY: 372200.19300 4997903.62500
SECONDARY_SW_QUAD_XY: 367284.82000 4998004.34500
RMSE_XY: 1.10000
IMAGE_SOURCE: BLACK AND WHITE FILM
SOURCE_IMAGE_ID: NAPP 9111 033
SOURCE_IMAGE_DATE: 1996 08 11
SOURCE_IMAGE_ID: NAPP 9111 034
SOURCE_IMAGE_DATE: 1996 08 11
SOURCE_DEM_DATE: 1966 00 00
AGENCY: WESTERN MAPPING CENTER (WMC)
PRODUCER: UNDEFINED
PRODUCTION_SYSTEM: GIS/MAGIC
COMPRESSION: UNDEFINED
STANDARD_VERSION: 1996 12
METADATA_DATE: 1999 06 14
DATA_FILE_SIZE: 43645194
BYTE_COUNT: 5706
