FILENAME: O4510647.NWS.1010829.tif
QUADRANGLE_NAME: FORT HOWES
QUADRANT: NW
WEST_LONGITUDE: -106 15 0.00000
EAST_LONGITUDE: -106 11 15.00000
NORTH_LATITUDE: 45 22 30.00000
SOUTH_LATITUDE: 45 18 45.00000
PRODUCTION_DATE: 1999 6 11
RASTER_ORDER: LEFT_RIGHT/TOP_BOTTOM
BAND_ORGANIZATION: SINGLE FILE
BAND_CONTENT: BLACK&WHITE
BAND_CONTENT: UNDEFINED
BAND_CONTENT: UNDEFINED
BITS_PER_PIXEL: 8
SAMPLES_AND_LINES: 5650 7621
HORIZONTAL_DATUM: NAD83
HORIZONTAL_COORDINATE_SYSTEM: UTM
COORDINATE_ZONE: 13
HORIZONTAL_UNITS: METERS
HORIZONTAL_RESOLUTION: 1.00000
SECONDARY_HORIZONTAL_DATUM: NAD27
XY_ORIGIN: 401671.00000 5025670.00000
SECONDARY_XY_ORIGIN: 401713.18700 5025452.11700
NATION: US
NATION: "SCIENCE
STATE: MT
NW_QUAD_CORNER_XY: 402125.72900 5025369.44300
NE_QUAD_CORNER_XY: 407019.43500 5025295.34500
SE_QUAD_CORNERY_XY: 406917.05400 5018351.98300
SW_QUAD_CORNER_XY: 402017.95800 5018426.08200
SECONDARY_NW_QUAD_XY: 402122.81700 5025151.95600
SECONDARY_NE_QUAD_XY: 407016.66700 5025077.85600
SECONDARY_SE_QUAD_XY: 406914.28700 5018134.54500
SECONDARY_SW_QUAD_XY: 402015.04700 5018208.64700
RMSE_XY: 2.40000
IMAGE_SOURCE: BLACK AND WHITE FILM
SOURCE_IMAGE_ID: NAPP 9090 167
SOURCE_IMAGE_DATE: 1996 07 07
SOURCE_IMAGE_ID: NAPP 9090 168
SOURCE_IMAGE_DATE: 1996 07 07
SOURCE_IMAGE_ID: NAPP 9090 166
SOURCE_IMAGE_DATE: 1996 07 07
SOURCE_DEM_DATE: 1992 00 00
AGENCY: WESTERN MAPPING CENTER (WMC)
PRODUCER: UNDEFINED
PRODUCTION_SYSTEM: GIS/MAGIC
COMPRESSION: UNDEFINED
STANDARD_VERSION: 1996 12
METADATA_DATE: 1999 06 15
DATA_FILE_SIZE: 43064300
BYTE_COUNT: 5650
