FILENAME: O4510646.NES.1010820.tif
QUADRANGLE_NAME: POKER JIM BUTTE
QUADRANT: NE
WEST_LONGITUDE: -106 18 45.00000
EAST_LONGITUDE: -106 15 0.00000
NORTH_LATITUDE: 45 22 30.00000
SOUTH_LATITUDE: 45 18 45.00000
PRODUCTION_DATE: 1999 6 11
RASTER_ORDER: LEFT_RIGHT/TOP_BOTTOM
BAND_ORGANIZATION: SINGLE FILE
BAND_CONTENT: BLACK&WHITE
BAND_CONTENT: UNDEFINED
BAND_CONTENT: UNDEFINED
BITS_PER_PIXEL: 8
SAMPLES_AND_LINES: 5655 7624
HORIZONTAL_DATUM: NAD83
HORIZONTAL_COORDINATE_SYSTEM: UTM
COORDINATE_ZONE: 13
HORIZONTAL_UNITS: METERS
HORIZONTAL_RESOLUTION: 1.00000
SECONDARY_HORIZONTAL_DATUM: NAD27
XY_ORIGIN: 396772.00000 5025748.00000
SECONDARY_XY_ORIGIN: 396814.30700 5025530.24800
NATION: US
NATION: "SCIENCE
STATE: MT
NW_QUAD_CORNER_XY: 397232.02500 5025447.34100
NE_QUAD_CORNER_XY: 402125.72900 5025369.44300
SE_QUAD_CORNERY_XY: 402017.95800 5018426.08200
SW_QUAD_CORNER_XY: 397118.86400 5018503.98300
SECONDARY_NW_QUAD_XY: 397228.96700 5025229.85700
SECONDARY_NE_QUAD_XY: 402122.81700 5025151.95600
SECONDARY_SE_QUAD_XY: 402015.04700 5018208.64700
SECONDARY_SW_QUAD_XY: 397115.80700 5018286.55000
RMSE_XY: 3.30000
IMAGE_SOURCE: BLACK AND WHITE FILM
SOURCE_IMAGE_ID: NAPP 9090 168
SOURCE_IMAGE_DATE: 1996 07 07
SOURCE_IMAGE_ID: NAPP 9102 095
SOURCE_IMAGE_DATE: 1996 07 14
SOURCE_IMAGE_ID: NAPP 9102 093
SOURCE_IMAGE_DATE: 1996 07 14
SOURCE_IMAGE_ID: NAPP 9097 015
SOURCE_IMAGE_DATE: 1996 07 12
SOURCE_IMAGE_ID: NAPP 9097 017
SOURCE_IMAGE_DATE: 1996 07 12
SOURCE_DEM_DATE: 1992 00 00
AGENCY: WESTERN MAPPING CENTER (WMC)
PRODUCER: UNDEFINED
PRODUCTION_SYSTEM: GIS/MAGIC
COMPRESSION: UNDEFINED
STANDARD_VERSION: 1996 12
METADATA_DATE: 1999 06 15
DATA_FILE_SIZE: 43119375
BYTE_COUNT: 5655
