FILENAME: O4510646.SWS.1010823.tif
QUADRANGLE_NAME: POKER JIM BUTTE
QUADRANT: SW
WEST_LONGITUDE: -106 22 30.00000
EAST_LONGITUDE: -106 18 45.00000
NORTH_LATITUDE: 45 18 45.00000
SOUTH_LATITUDE: 45 15 0.00000
PRODUCTION_DATE: 1999 6 11
RASTER_ORDER: LEFT_RIGHT/TOP_BOTTOM
BAND_ORGANIZATION: SINGLE FILE
BAND_CONTENT: BLACK&WHITE
BAND_CONTENT: UNDEFINED
BAND_CONTENT: UNDEFINED
BITS_PER_PIXEL: 8
SAMPLES_AND_LINES: 5666 7628
HORIZONTAL_DATUM: NAD83
HORIZONTAL_COORDINATE_SYSTEM: UTM
COORDINATE_ZONE: 13
HORIZONTAL_UNITS: METERS
HORIZONTAL_RESOLUTION: 1.00000
SECONDARY_HORIZONTAL_DATUM: NAD27
XY_ORIGIN: 391754.00000 5018886.00000
SECONDARY_XY_ORIGIN: 391796.66900 5018668.53600
NATION: US
NATION: "SCIENCE
STATE: MT
NW_QUAD_CORNER_XY: 392219.77100 5018585.68500
NE_QUAD_CORNER_XY: 397118.86400 5018503.98300
SE_QUAD_CORNERY_XY: 397005.82600 5011560.69700
SW_QUAD_CORNER_XY: 392101.34800 5011642.40000
SECONDARY_NW_QUAD_XY: 392216.56800 5018368.25400
SECONDARY_NE_QUAD_XY: 397115.80700 5018286.55000
SECONDARY_SE_QUAD_XY: 397002.77000 5011343.31500
SECONDARY_SW_QUAD_XY: 392098.14600 5011425.02100
RMSE_XY: 2.00000
IMAGE_SOURCE: BLACK AND WHITE FILM
SOURCE_IMAGE_ID: NAPP 9102 096
SOURCE_IMAGE_DATE: 1996 07 14
SOURCE_IMAGE_ID: NAPP 9106 219
SOURCE_IMAGE_DATE: 1996 08 07
SOURCE_IMAGE_ID: NAPP 9102 097
SOURCE_IMAGE_DATE: 1996 07 14
SOURCE_IMAGE_ID: NAPP 9102 095
SOURCE_IMAGE_DATE: 1996 07 14
SOURCE_DEM_DATE: 1992 00 00
AGENCY: WESTERN MAPPING CENTER (WMC)
PRODUCER: UNDEFINED
PRODUCTION_SYSTEM: GIS/MAGIC
COMPRESSION: UNDEFINED
STANDARD_VERSION: 1996 12
METADATA_DATE: 1999 06 15
DATA_FILE_SIZE: 43225914
BYTE_COUNT: 5666
