FILENAME: O4510645.NES.1010812.tif
QUADRANGLE_NAME: BROWNS MOUNTAIN
QUADRANT: NE
WEST_LONGITUDE: -106 26 15.00000
EAST_LONGITUDE: -106 22 30.00000
NORTH_LATITUDE: 45 22 30.00000
SOUTH_LATITUDE: 45 18 45.00000
PRODUCTION_DATE: 1999 6 11
RASTER_ORDER: LEFT_RIGHT/TOP_BOTTOM
BAND_ORGANIZATION: SINGLE FILE
BAND_CONTENT: BLACK&WHITE
BAND_CONTENT: UNDEFINED
BAND_CONTENT: UNDEFINED
BITS_PER_PIXEL: 8
SAMPLES_AND_LINES: 5667 7632
HORIZONTAL_DATUM: NAD83
HORIZONTAL_COORDINATE_SYSTEM: UTM
COORDINATE_ZONE: 13
HORIZONTAL_UNITS: METERS
HORIZONTAL_RESOLUTION: 1.00000
SECONDARY_HORIZONTAL_DATUM: NAD27
XY_ORIGIN: 386973.00000 5025915.00000
SECONDARY_XY_ORIGIN: 387015.53900 5025697.45700
NATION: US
NATION: "SCIENCE
STATE: MT
NW_QUAD_CORNER_XY: 387444.62200 5025614.54300
NE_QUAD_CORNER_XY: 392338.32300 5025529.04200
SE_QUAD_CORNERY_XY: 392219.77100 5018585.68500
SW_QUAD_CORNER_XY: 387320.67900 5018671.18900
SECONDARY_NW_QUAD_XY: 387441.27300 5025397.06400
SECONDARY_NE_QUAD_XY: 392335.11900 5025311.56000
SECONDARY_SE_QUAD_XY: 392216.56800 5018368.25400
SECONDARY_SW_QUAD_XY: 387317.33100 5018453.76000
RMSE_XY: 2.60000
IMAGE_SOURCE: BLACK AND WHITE FILM
SOURCE_IMAGE_ID: NAPP 9106 220
SOURCE_IMAGE_DATE: 1996 08 07
SOURCE_IMAGE_ID: NAPP 9115 174
SOURCE_IMAGE_DATE: 1996 09 10
SOURCE_IMAGE_ID: NAPP 9115 172
SOURCE_IMAGE_DATE: 1996 09 10
SOURCE_IMAGE_ID: NAPP 9106 219
SOURCE_IMAGE_DATE: 1996 08 07
SOURCE_IMAGE_ID: NAPP 9106 221
SOURCE_IMAGE_DATE: 1996 08 07
SOURCE_DEM_DATE: 1987 00 00
AGENCY: WESTERN MAPPING CENTER (WMC)
PRODUCER: UNDEFINED
PRODUCTION_SYSTEM: GIS/MAGIC
COMPRESSION: UNDEFINED
STANDARD_VERSION: 1996 12
METADATA_DATE: 1999 06 15
DATA_FILE_SIZE: 43256211
BYTE_COUNT: 5667
