FILENAME: O4510643.NWS.1010797.tif
QUADRANGLE_NAME: BIRNEY SW
QUADRANT: NW
WEST_LONGITUDE: -106 45 0.00000
EAST_LONGITUDE: -106 41 15.00000
NORTH_LATITUDE: 45 22 30.00000
SOUTH_LATITUDE: 45 18 45.00000
PRODUCTION_DATE: 1999 6 11
RASTER_ORDER: LEFT_RIGHT/TOP_BOTTOM
BAND_ORGANIZATION: SINGLE FILE
BAND_CONTENT: BLACK&WHITE
BAND_CONTENT: UNDEFINED
BAND_CONTENT: UNDEFINED
BITS_PER_PIXEL: 8
SAMPLES_AND_LINES: 5695 7652
HORIZONTAL_DATUM: NAD83
HORIZONTAL_COORDINATE_SYSTEM: UTM
COORDINATE_ZONE: 13
HORIZONTAL_UNITS: METERS
HORIZONTAL_RESOLUTION: 1.00000
SECONDARY_HORIZONTAL_DATUM: NAD27
XY_ORIGIN: 362476.00000 5026400.00000
SECONDARY_XY_ORIGIN: 362519.28900 5026183.25200
NATION: US
NATION: "SCIENCE
STATE: MT
NW_QUAD_CORNER_XY: 362976.14300 5026099.08000
NE_QUAD_CORNER_XY: 367869.83500 5025994.56800
SE_QUAD_CORNERY_XY: 367724.32600 5019051.22200
SW_QUAD_CORNER_XY: 362825.24100 5019155.73700
SECONDARY_NW_QUAD_XY: 362972.06500 5025881.61600
SECONDARY_NE_QUAD_XY: 367865.90300 5025777.10000
SECONDARY_SE_QUAD_XY: 367720.39400 5018833.80600
SECONDARY_SW_QUAD_XY: 362821.16400 5018938.32300
RMSE_XY: 2.40000
IMAGE_SOURCE: BLACK AND WHITE FILM
SOURCE_IMAGE_ID: NAPP 9115 114
SOURCE_IMAGE_DATE: 1996 09 10
SOURCE_IMAGE_ID: NAPP 9115 113
SOURCE_IMAGE_DATE: 1996 09 10
SOURCE_DEM_DATE: 1987 00 00
AGENCY: WESTERN MAPPING CENTER (WMC)
PRODUCER: UNDEFINED
PRODUCTION_SYSTEM: GIS/MAGIC
COMPRESSION: UNDEFINED
STANDARD_VERSION: 1996 12
METADATA_DATE: 1999 06 15
DATA_FILE_SIZE: 43583835
BYTE_COUNT: 5695
