FILENAME: O4510643.SES.1010798.tif
QUADRANGLE_NAME: BIRNEY SW
QUADRANT: SE
WEST_LONGITUDE: -106 41 15.00000
EAST_LONGITUDE: -106 37 30.00000
NORTH_LATITUDE: 45 18 45.00000
SOUTH_LATITUDE: 45 15 0.00000
PRODUCTION_DATE: 1999 6 11
RASTER_ORDER: LEFT_RIGHT/TOP_BOTTOM
BAND_ORGANIZATION: SINGLE FILE
BAND_CONTENT: BLACK&WHITE
BAND_CONTENT: UNDEFINED
BAND_CONTENT: UNDEFINED
BITS_PER_PIXEL: 8
SAMPLES_AND_LINES: 5695 7648
HORIZONTAL_DATUM: NAD83
HORIZONTAL_COORDINATE_SYSTEM: UTM
COORDINATE_ZONE: 13
HORIZONTAL_UNITS: METERS
HORIZONTAL_RESOLUTION: 1.00000
SECONDARY_HORIZONTAL_DATUM: NAD27
XY_ORIGIN: 367230.00000 5019352.00000
SECONDARY_XY_ORIGIN: 367273.45000 5019135.29900
NATION: US
NATION: "SCIENCE
STATE: MT
NW_QUAD_CORNER_XY: 367724.32600 5019051.22200
NE_QUAD_CORNER_XY: 372623.41200 5018950.51100
SE_QUAD_CORNERY_XY: 372483.44700 5012007.23300
SW_QUAD_CORNER_XY: 367578.97500 5012107.94700
SECONDARY_NW_QUAD_XY: 367720.39400 5018833.80600
SECONDARY_NE_QUAD_XY: 372619.62600 5018733.09100
SECONDARY_SE_QUAD_XY: 372479.66300 5011789.86500
SECONDARY_SW_QUAD_XY: 367575.04400 5011890.58100
RMSE_XY: 1.80000
IMAGE_SOURCE: BLACK AND WHITE FILM
SOURCE_IMAGE_ID: NAPP 9111 037
SOURCE_IMAGE_DATE: 1996 08 11
SOURCE_IMAGE_ID: NAPP 9115 113
SOURCE_IMAGE_DATE: 1996 09 10
SOURCE_IMAGE_ID: NAPP 9111 038
SOURCE_IMAGE_DATE: 1996 08 11
SOURCE_DEM_DATE: 1987 00 00
AGENCY: WESTERN MAPPING CENTER (WMC)
PRODUCER: UNDEFINED
PRODUCTION_SYSTEM: GIS/MAGIC
COMPRESSION: UNDEFINED
STANDARD_VERSION: 1996 12
METADATA_DATE: 1999 06 15
DATA_FILE_SIZE: 43561055
BYTE_COUNT: 5695
