FILENAME: O4510642.SWS.1010791.tif
QUADRANGLE_NAME: TAINTOR DESERT
QUADRANT: SW
WEST_LONGITUDE: -106 52 30.00000
EAST_LONGITUDE: -106 48 45.00000
NORTH_LATITUDE: 45 18 45.00000
SOUTH_LATITUDE: 45 15 0.00000
PRODUCTION_DATE: 1999 6 10
RASTER_ORDER: LEFT_RIGHT/TOP_BOTTOM
BAND_ORGANIZATION: SINGLE FILE
BAND_CONTENT: BLACK&WHITE
BAND_CONTENT: UNDEFINED
BAND_CONTENT: UNDEFINED
BITS_PER_PIXEL: 8
SAMPLES_AND_LINES: 5713 7660
HORIZONTAL_DATUM: NAD83
HORIZONTAL_COORDINATE_SYSTEM: UTM
COORDINATE_ZONE: 13
HORIZONTAL_UNITS: METERS
HORIZONTAL_RESOLUTION: 1.00000
SECONDARY_HORIZONTAL_DATUM: NAD27
XY_ORIGIN: 352515.00000 5019677.00000
SECONDARY_XY_ORIGIN: 352558.92400 5019460.77300
NATION: US
NATION: "SCIENCE
STATE: MT
NW_QUAD_CORNER_XY: 353027.07600 5019376.17500
NE_QUAD_CORNER_XY: 357926.15800 5019264.05500
SE_QUAD_CORNERY_XY: 357770.03300 5012320.78300
SW_QUAD_CORNER_XY: 352865.56400 5012432.90500
SECONDARY_NW_QUAD_XY: 353022.70800 5019158.76800
SECONDARY_NE_QUAD_XY: 357921.93500 5019046.64400
SECONDARY_SE_QUAD_XY: 357765.81200 5012103.42400
SECONDARY_SW_QUAD_XY: 352861.19700 5012215.55000
RMSE_XY: 3.00000
IMAGE_SOURCE: BLACK AND WHITE FILM
SOURCE_IMAGE_ID: NAPP 9115 025
SOURCE_IMAGE_DATE: 1996 09 10
SOURCE_IMAGE_ID: NAPP 9115 024
SOURCE_IMAGE_DATE: 1996 09 10
SOURCE_IMAGE_ID: NAPP 9115 026
SOURCE_IMAGE_DATE: 1996 09 10
SOURCE_IMAGE_ID: NAPP 9115 086
SOURCE_IMAGE_DATE: 1996 09 10
SOURCE_DEM_DATE: 1987 00 00
AGENCY: WESTERN MAPPING CENTER (WMC)
PRODUCER: UNDEFINED
PRODUCTION_SYSTEM: GIS/MAGIC
COMPRESSION: UNDEFINED
STANDARD_VERSION: 1996 12
METADATA_DATE: 1999 06 15
DATA_FILE_SIZE: 43767293
BYTE_COUNT: 5713
