FILENAME: O4510638.NWS.1010725.tif
QUADRANGLE_NAME: GREEN CREEK
QUADRANT: NW
WEST_LONGITUDE: -106 22 30.00000
EAST_LONGITUDE: -106 18 45.00000
NORTH_LATITUDE: 45 30 0.00000
SOUTH_LATITUDE: 45 26 15.00000
PRODUCTION_DATE: 1999 6 7
RASTER_ORDER: LEFT_RIGHT/TOP_BOTTOM
BAND_ORGANIZATION: SINGLE FILE
BAND_CONTENT: BLACK&WHITE
BAND_CONTENT: UNDEFINED
BAND_CONTENT: UNDEFINED
BITS_PER_PIXEL: 8
SAMPLES_AND_LINES: 5650 7629
HORIZONTAL_DATUM: NAD83
HORIZONTAL_COORDINATE_SYSTEM: UTM
COORDINATE_ZONE: 13
HORIZONTAL_UNITS: METERS
HORIZONTAL_RESOLUTION: 1.00000
SECONDARY_HORIZONTAL_DATUM: NAD27
XY_ORIGIN: 392110.00000 5039717.00000
SECONDARY_XY_ORIGIN: 392151.93200 5039498.98900
NATION: US
NATION: "SCIENCE
STATE: MT
NW_QUAD_CORNER_XY: 392575.81300 5039415.97000
NE_QUAD_CORNER_XY: 397458.71700 5039334.27500
SE_QUAD_CORNERY_XY: 397345.31000 5032390.77200
SW_QUAD_CORNER_XY: 392457.00400 5032472.47000
SECONDARY_NW_QUAD_XY: 392572.60800 5039198.38900
SECONDARY_NE_QUAD_XY: 397455.65700 5039116.69200
SECONDARY_SE_QUAD_XY: 397342.25100 5032173.23800
SECONDARY_SW_QUAD_XY: 392453.79900 5032254.93800
RMSE_XY: 2.00000
IMAGE_SOURCE: BLACK AND WHITE FILM
SOURCE_IMAGE_ID: NAPP 9102 090
SOURCE_IMAGE_DATE: 1996 07 14
SOURCE_IMAGE_ID: NAPP 9106 223
SOURCE_IMAGE_DATE: 1996 08 07
SOURCE_IMAGE_ID: NAPP 9106 225
SOURCE_IMAGE_DATE: 1996 08 07
SOURCE_IMAGE_ID: NAPP 9102 091
SOURCE_IMAGE_DATE: 1996 07 14
SOURCE_IMAGE_ID: NAPP 9102 089
SOURCE_IMAGE_DATE: 1996 07 14
SOURCE_DEM_DATE: 1987 00 00
AGENCY: WESTERN MAPPING CENTER (WMC)
PRODUCER: UNDEFINED
PRODUCTION_SYSTEM: GIS/MAGIC
COMPRESSION: UNDEFINED
STANDARD_VERSION: 1996 12
METADATA_DATE: 1999 06 09
DATA_FILE_SIZE: 43109500
BYTE_COUNT: 5650
