FILENAME: O4510637.SES.1010713.tif
QUADRANGLE_NAME: BIRNEY DAY SCHOOL
QUADRANT: SE
WEST_LONGITUDE: -106 26 15.00000
EAST_LONGITUDE: -106 22 30.00000
NORTH_LATITUDE: 45 26 15.00000
SOUTH_LATITUDE: 45 22 30.00000
PRODUCTION_DATE: 1999 6 7
RASTER_ORDER: LEFT_RIGHT/TOP_BOTTOM
BAND_ORGANIZATION: SINGLE FILE
BAND_CONTENT: BLACK&WHITE
BAND_CONTENT: UNDEFINED
BAND_CONTENT: UNDEFINED
BITS_PER_PIXEL: 8
SAMPLES_AND_LINES: 5662 7632
HORIZONTAL_DATUM: NAD83
HORIZONTAL_COORDINATE_SYSTEM: UTM
COORDINATE_ZONE: 13
HORIZONTAL_UNITS: METERS
HORIZONTAL_RESOLUTION: 1.00000
SECONDARY_HORIZONTAL_DATUM: NAD27
XY_ORIGIN: 387097.00000 5032859.00000
SECONDARY_XY_ORIGIN: 387139.27300 5032641.26700
NATION: US
NATION: "SCIENCE
STATE: MT
NW_QUAD_CORNER_XY: 387568.70000 5032557.96900
NE_QUAD_CORNER_XY: 392457.00400 5032472.47000
SE_QUAD_CORNERY_XY: 392338.32300 5025529.04200
SW_QUAD_CORNER_XY: 387444.62200 5025614.54300
SECONDARY_NW_QUAD_XY: 387565.34900 5032340.44000
SECONDARY_NE_QUAD_XY: 392453.79900 5032254.93800
SECONDARY_SE_QUAD_XY: 392335.11900 5025311.56000
SECONDARY_SW_QUAD_XY: 387441.27300 5025397.06400
RMSE_XY: 2.40000
IMAGE_SOURCE: BLACK AND WHITE FILM
SOURCE_IMAGE_ID: NAPP 9106 222
SOURCE_IMAGE_DATE: 1996 08 07
SOURCE_IMAGE_ID: NAPP 9115 172
SOURCE_IMAGE_DATE: 1996 09 10
SOURCE_IMAGE_ID: NAPP 9106 221
SOURCE_IMAGE_DATE: 1996 08 07
SOURCE_IMAGE_ID: NAPP 9106 223
SOURCE_IMAGE_DATE: 1996 08 07
SOURCE_DEM_DATE: 1987 00 00
AGENCY: WESTERN MAPPING CENTER (WMC)
PRODUCER: UNDEFINED
PRODUCTION_SYSTEM: GIS/MAGIC
COMPRESSION: UNDEFINED
STANDARD_VERSION: 1996 12
METADATA_DATE: 1999 06 09
DATA_FILE_SIZE: 43218046
BYTE_COUNT: 5662
