FILENAME: O4510637.SWS.1010714.tif
QUADRANGLE_NAME: BIRNEY DAY SCHOOL
QUADRANT: SW
WEST_LONGITUDE: -106 30 0.00000
EAST_LONGITUDE: -106 26 15.00000
NORTH_LATITUDE: 45 26 15.00000
SOUTH_LATITUDE: 45 22 30.00000
PRODUCTION_DATE: 1999 6 7
RASTER_ORDER: LEFT_RIGHT/TOP_BOTTOM
BAND_ORGANIZATION: SINGLE FILE
BAND_CONTENT: BLACK&WHITE
BAND_CONTENT: UNDEFINED
BAND_CONTENT: UNDEFINED
BITS_PER_PIXEL: 8
SAMPLES_AND_LINES: 5667 7636
HORIZONTAL_DATUM: NAD83
HORIZONTAL_COORDINATE_SYSTEM: UTM
COORDINATE_ZONE: 13
HORIZONTAL_UNITS: METERS
HORIZONTAL_RESOLUTION: 1.00000
SECONDARY_HORIZONTAL_DATUM: NAD27
XY_ORIGIN: 382203.00000 5032948.00000
SECONDARY_XY_ORIGIN: 382245.37000 5032730.36400
NATION: US
NATION: "SCIENCE
STATE: MT
NW_QUAD_CORNER_XY: 382680.39700 5032647.27000
NE_QUAD_CORNER_XY: 387568.70000 5032557.96900
SE_QUAD_CORNERY_XY: 387444.62200 5025614.54300
SW_QUAD_CORNER_XY: 382550.92300 5025703.84600
SECONDARY_NW_QUAD_XY: 382676.90100 5032429.74300
SECONDARY_NE_QUAD_XY: 387565.34900 5032340.44000
SECONDARY_SE_QUAD_XY: 387441.27300 5025397.06400
SECONDARY_SW_QUAD_XY: 382547.42800 5025486.37000
RMSE_XY: 1.70000
IMAGE_SOURCE: BLACK AND WHITE FILM
SOURCE_IMAGE_ID: NAPP 9115 171
SOURCE_IMAGE_DATE: 1996 09 10
SOURCE_IMAGE_ID: NAPP 9115 172
SOURCE_IMAGE_DATE: 1996 09 10
SOURCE_IMAGE_ID: NAPP 9115 170
SOURCE_IMAGE_DATE: 1996 09 10
SOURCE_DEM_DATE: 1987 00 00
AGENCY: WESTERN MAPPING CENTER (WMC)
PRODUCER: UNDEFINED
PRODUCTION_SYSTEM: GIS/MAGIC
COMPRESSION: UNDEFINED
STANDARD_VERSION: 1996 12
METADATA_DATE: 1999 06 09
DATA_FILE_SIZE: 43278879
BYTE_COUNT: 5667
