FILENAME: O4510636.NWS.1010704.tif
QUADRANGLE_NAME: CLUBFOOT CREEK
QUADRANT: NW
WEST_LONGITUDE: -106 37 30.00000
EAST_LONGITUDE: -106 33 45.00000
NORTH_LATITUDE: 45 30 0.00000
SOUTH_LATITUDE: 45 26 15.00000
PRODUCTION_DATE: 1999 6 7
RASTER_ORDER: LEFT_RIGHT/TOP_BOTTOM
BAND_ORGANIZATION: SINGLE FILE
BAND_CONTENT: BLACK&WHITE
BAND_CONTENT: UNDEFINED
BAND_CONTENT: UNDEFINED
BITS_PER_PIXEL: 8
SAMPLES_AND_LINES: 5673 7643
HORIZONTAL_DATUM: NAD83
HORIZONTAL_COORDINATE_SYSTEM: UTM
COORDINATE_ZONE: 13
HORIZONTAL_UNITS: METERS
HORIZONTAL_RESOLUTION: 1.00000
SECONDARY_HORIZONTAL_DATUM: NAD27
XY_ORIGIN: 372556.00000 5040081.00000
SECONDARY_XY_ORIGIN: 372598.35700 5039863.49000
NATION: US
NATION: "SCIENCE
STATE: MT
NW_QUAD_CORNER_XY: 373044.22100 5039780.76500
NE_QUAD_CORNER_XY: 377927.11500 5039683.86400
SE_QUAD_CORNERY_XY: 377792.09700 5032740.37200
SW_QUAD_CORNER_XY: 372903.79900 5032837.27700
SECONDARY_NW_QUAD_XY: 373040.43200 5039563.19500
SECONDARY_NE_QUAD_XY: 377923.47300 5039466.29100
SECONDARY_SE_QUAD_XY: 377788.45500 5032522.84900
SECONDARY_SW_QUAD_XY: 372900.01100 5032619.75600
RMSE_XY: 1.60000
IMAGE_SOURCE: BLACK AND WHITE FILM
SOURCE_IMAGE_ID: NAPP 9110 025
SOURCE_IMAGE_DATE: 1996 08 11
SOURCE_IMAGE_ID: NAPP 9111 042
SOURCE_IMAGE_DATE: 1996 08 11
SOURCE_IMAGE_ID: NAPP 9111 044
SOURCE_IMAGE_DATE: 1996 08 11
SOURCE_IMAGE_ID: NAPP 9111 005
SOURCE_IMAGE_DATE: 1996 08 11
SOURCE_IMAGE_ID: NAPP 9111 003
SOURCE_IMAGE_DATE: 1996 08 11
SOURCE_DEM_DATE: 1976 00 00
AGENCY: WESTERN MAPPING CENTER (WMC)
PRODUCER: UNDEFINED
PRODUCTION_SYSTEM: GIS/MAGIC
COMPRESSION: UNDEFINED
STANDARD_VERSION: 1996 12
METADATA_DATE: 1999 06 09
DATA_FILE_SIZE: 43364412
BYTE_COUNT: 5673
