FILENAME: O4510636.SWS.1010706.tif
QUADRANGLE_NAME: CLUBFOOT CREEK
QUADRANT: SW
WEST_LONGITUDE: -106 37 30.00000
EAST_LONGITUDE: -106 33 45.00000
NORTH_LATITUDE: 45 26 15.00000
SOUTH_LATITUDE: 45 22 30.00000
PRODUCTION_DATE: 1999 6 7
RASTER_ORDER: LEFT_RIGHT/TOP_BOTTOM
BAND_ORGANIZATION: SINGLE FILE
BAND_CONTENT: BLACK&WHITE
BAND_CONTENT: UNDEFINED
BAND_CONTENT: UNDEFINED
BITS_PER_PIXEL: 8
SAMPLES_AND_LINES: 5679 7644
HORIZONTAL_DATUM: NAD83
HORIZONTAL_COORDINATE_SYSTEM: UTM
COORDINATE_ZONE: 13
HORIZONTAL_UNITS: METERS
HORIZONTAL_RESOLUTION: 1.00000
SECONDARY_HORIZONTAL_DATUM: NAD27
XY_ORIGIN: 372415.00000 5033138.00000
SECONDARY_XY_ORIGIN: 372457.66400 5032920.70000
NATION: US
NATION: "SCIENCE
STATE: MT
NW_QUAD_CORNER_XY: 372903.79900 5032837.27700
NE_QUAD_CORNER_XY: 377792.09700 5032740.37200
SE_QUAD_CORNERY_XY: 377657.22500 5025796.95100
SW_QUAD_CORNER_XY: 372763.52900 5025893.85900
SECONDARY_NW_QUAD_XY: 372900.01100 5032619.75600
SECONDARY_NE_QUAD_XY: 377788.45500 5032522.84900
SECONDARY_SE_QUAD_XY: 377653.58400 5025579.47800
SECONDARY_SW_QUAD_XY: 372759.74300 5025676.38800
RMSE_XY: 2.40000
IMAGE_SOURCE: BLACK AND WHITE FILM
SOURCE_IMAGE_ID: NAPP 9111 006
SOURCE_IMAGE_DATE: 1996 08 11
SOURCE_IMAGE_ID: NAPP 9111 042
SOURCE_IMAGE_DATE: 1996 08 11
SOURCE_IMAGE_ID: NAPP 9111 007
SOURCE_IMAGE_DATE: 1996 08 11
SOURCE_IMAGE_ID: NAPP 9111 005
SOURCE_IMAGE_DATE: 1996 08 11
SOURCE_DEM_DATE: 1976 00 00
AGENCY: WESTERN MAPPING CENTER (WMC)
PRODUCER: UNDEFINED
PRODUCTION_SYSTEM: GIS/MAGIC
COMPRESSION: UNDEFINED
STANDARD_VERSION: 1996 12
METADATA_DATE: 1999 06 09
DATA_FILE_SIZE: 43415955
BYTE_COUNT: 5679
