FILENAME: O4510635.NES.1010699.tif
QUADRANGLE_NAME: COOK CREEK BUTTE
QUADRANT: NE
WEST_LONGITUDE: -106 41 15.00000
EAST_LONGITUDE: -106 37 30.00000
NORTH_LATITUDE: 45 30 0.00000
SOUTH_LATITUDE: 45 26 15.00000
PRODUCTION_DATE: 1999 6 7
RASTER_ORDER: LEFT_RIGHT/TOP_BOTTOM
BAND_ORGANIZATION: SINGLE FILE
BAND_CONTENT: BLACK&WHITE
BAND_CONTENT: UNDEFINED
BAND_CONTENT: UNDEFINED
BITS_PER_PIXEL: 8
SAMPLES_AND_LINES: 5679 7647
HORIZONTAL_DATUM: NAD83
HORIZONTAL_COORDINATE_SYSTEM: UTM
COORDINATE_ZONE: 13
HORIZONTAL_UNITS: METERS
HORIZONTAL_RESOLUTION: 1.00000
SECONDARY_HORIZONTAL_DATUM: NAD27
XY_ORIGIN: 367667.00000 5040182.00000
SECONDARY_XY_ORIGIN: 367709.49200 5039964.64900
NATION: US
NATION: "SCIENCE
STATE: MT
NW_QUAD_CORNER_XY: 368161.32800 5039881.46900
NE_QUAD_CORNER_XY: 373044.22100 5039780.76500
SE_QUAD_CORNERY_XY: 372903.79900 5032837.27700
SW_QUAD_CORNER_XY: 368015.50300 5032937.98300
SECONDARY_NW_QUAD_XY: 368157.39400 5039663.90200
SECONDARY_NE_QUAD_XY: 373040.43200 5039563.19500
SECONDARY_SE_QUAD_XY: 372900.01100 5032619.75600
SECONDARY_SW_QUAD_XY: 368011.56900 5032720.46600
RMSE_XY: 0.90000
IMAGE_SOURCE: BLACK AND WHITE FILM
SOURCE_IMAGE_ID: NAPP 9111 043
SOURCE_IMAGE_DATE: 1996 08 11
SOURCE_IMAGE_ID: NAPP 9115 117
SOURCE_IMAGE_DATE: 1996 09 10
SOURCE_IMAGE_ID: NAPP 9115 119
SOURCE_IMAGE_DATE: 1996 09 10
SOURCE_IMAGE_ID: NAPP 9111 042
SOURCE_IMAGE_DATE: 1996 08 11
SOURCE_IMAGE_ID: NAPP 9111 044
SOURCE_IMAGE_DATE: 1996 08 11
SOURCE_DEM_DATE: 1987 00 00
AGENCY: WESTERN MAPPING CENTER (WMC)
PRODUCER: UNDEFINED
PRODUCTION_SYSTEM: GIS/MAGIC
COMPRESSION: UNDEFINED
STANDARD_VERSION: 1996 12
METADATA_DATE: 1999 06 09
DATA_FILE_SIZE: 43432992
BYTE_COUNT: 5679
