FILENAME: O4510635.NWS.1010700.tif
QUADRANGLE_NAME: COOK CREEK BUTTE
QUADRANT: NW
WEST_LONGITUDE: -106 45 0.00000
EAST_LONGITUDE: -106 41 15.00000
NORTH_LATITUDE: 45 30 0.00000
SOUTH_LATITUDE: 45 26 15.00000
PRODUCTION_DATE: 1999 6 7
RASTER_ORDER: LEFT_RIGHT/TOP_BOTTOM
BAND_ORGANIZATION: SINGLE FILE
BAND_CONTENT: BLACK&WHITE
BAND_CONTENT: UNDEFINED
BAND_CONTENT: UNDEFINED
BITS_PER_PIXEL: 8
SAMPLES_AND_LINES: 5684 7651
HORIZONTAL_DATUM: NAD83
HORIZONTAL_COORDINATE_SYSTEM: UTM
COORDINATE_ZONE: 13
HORIZONTAL_UNITS: METERS
HORIZONTAL_RESOLUTION: 1.00000
SECONDARY_HORIZONTAL_DATUM: NAD27
XY_ORIGIN: 362779.00000 5040286.00000
SECONDARY_XY_ORIGIN: 362821.62800 5040068.80700
NATION: US
NATION: "SCIENCE
STATE: MT
NW_QUAD_CORNER_XY: 363278.43900 5039985.97400
NE_QUAD_CORNER_XY: 368161.32800 5039881.46900
SE_QUAD_CORNERY_XY: 368015.50300 5032937.98300
SW_QUAD_CORNER_XY: 363127.20900 5033042.49300
SECONDARY_NW_QUAD_XY: 363274.35800 5039768.41000
SECONDARY_NE_QUAD_XY: 368157.39400 5039663.90200
SECONDARY_SE_QUAD_XY: 368011.56900 5032720.46600
SECONDARY_SW_QUAD_XY: 363123.13000 5032824.97800
RMSE_XY: 1.70000
IMAGE_SOURCE: BLACK AND WHITE FILM
SOURCE_IMAGE_ID: NAPP 9115 118
SOURCE_IMAGE_DATE: 1996 09 10
SOURCE_IMAGE_ID: NAPP 9115 078
SOURCE_IMAGE_DATE: 1996 09 10
SOURCE_IMAGE_ID: NAPP 9115 119
SOURCE_IMAGE_DATE: 1996 09 10
SOURCE_IMAGE_ID: NAPP 9115 120
SOURCE_IMAGE_DATE: 1996 09 10
SOURCE_DEM_DATE: 1987 00 00
AGENCY: WESTERN MAPPING CENTER (WMC)
PRODUCER: UNDEFINED
PRODUCTION_SYSTEM: GIS/MAGIC
COMPRESSION: UNDEFINED
STANDARD_VERSION: 1996 12
METADATA_DATE: 1999 06 09
DATA_FILE_SIZE: 43493968
BYTE_COUNT: 5684
