FILENAME: O4510635.SWS.1010702.tif
QUADRANGLE_NAME: COOK CREEK BUTTE
QUADRANT: SW
WEST_LONGITUDE: -106 45 0.00000
EAST_LONGITUDE: -106 41 15.00000
NORTH_LATITUDE: 45 26 15.00000
SOUTH_LATITUDE: 45 22 30.00000
PRODUCTION_DATE: 1999 6 7
RASTER_ORDER: LEFT_RIGHT/TOP_BOTTOM
BAND_ORGANIZATION: SINGLE FILE
BAND_CONTENT: BLACK&WHITE
BAND_CONTENT: UNDEFINED
BAND_CONTENT: UNDEFINED
BITS_PER_PIXEL: 8
SAMPLES_AND_LINES: 5690 7651
HORIZONTAL_DATUM: NAD83
HORIZONTAL_COORDINATE_SYSTEM: UTM
COORDINATE_ZONE: 13
HORIZONTAL_UNITS: METERS
HORIZONTAL_RESOLUTION: 1.00000
SECONDARY_HORIZONTAL_DATUM: NAD27
XY_ORIGIN: 362627.00000 5033343.00000
SECONDARY_XY_ORIGIN: 362669.95800 5033126.02900
NATION: US
NATION: "SCIENCE
STATE: MT
NW_QUAD_CORNER_XY: 363127.20900 5033042.49300
NE_QUAD_CORNER_XY: 368015.50300 5032937.98300
SE_QUAD_CORNERY_XY: 367869.83500 5025994.56800
SW_QUAD_CORNER_XY: 362976.14300 5026099.08000
SECONDARY_NW_QUAD_XY: 363123.13000 5032824.97800
SECONDARY_NE_QUAD_XY: 368011.56900 5032720.46600
SECONDARY_SE_QUAD_XY: 367865.90300 5025777.10000
SECONDARY_SW_QUAD_XY: 362972.06500 5025881.61600
RMSE_XY: 1.50000
IMAGE_SOURCE: BLACK AND WHITE FILM
SOURCE_IMAGE_ID: NAPP 9115 116
SOURCE_IMAGE_DATE: 1996 09 10
SOURCE_IMAGE_ID: NAPP 9115 115
SOURCE_IMAGE_DATE: 1996 09 10
SOURCE_IMAGE_ID: NAPP 9115 117
SOURCE_IMAGE_DATE: 1996 09 10
SOURCE_DEM_DATE: 1987 00 00
AGENCY: WESTERN MAPPING CENTER (WMC)
PRODUCER: UNDEFINED
PRODUCTION_SYSTEM: GIS/MAGIC
COMPRESSION: UNDEFINED
STANDARD_VERSION: 1996 12
METADATA_DATE: 1999 06 09
DATA_FILE_SIZE: 43539880
BYTE_COUNT: 5690
