FILENAME: O4510634.NES.1010691.tif
QUADRANGLE_NAME: BULL CREEK LOOKOUT
QUADRANT: NE
WEST_LONGITUDE: -106 48 45.00000
EAST_LONGITUDE: -106 45 0.00000
NORTH_LATITUDE: 45 30 0.00000
SOUTH_LATITUDE: 45 26 15.00000
PRODUCTION_DATE: 1999 6 7
RASTER_ORDER: LEFT_RIGHT/TOP_BOTTOM
BAND_ORGANIZATION: SINGLE FILE
BAND_CONTENT: BLACK&WHITE
BAND_CONTENT: UNDEFINED
BAND_CONTENT: UNDEFINED
BITS_PER_PIXEL: 8
SAMPLES_AND_LINES: 5690 7656
HORIZONTAL_DATUM: NAD83
HORIZONTAL_COORDINATE_SYSTEM: UTM
COORDINATE_ZONE: 13
HORIZONTAL_UNITS: METERS
HORIZONTAL_RESOLUTION: 1.00000
SECONDARY_HORIZONTAL_DATUM: NAD27
XY_ORIGIN: 357890.00000 5040395.00000
SECONDARY_XY_ORIGIN: 357932.77600 5040177.95300
NATION: US
NATION: "SCIENCE
STATE: MT
NW_QUAD_CORNER_XY: 358395.55200 5040094.28300
NE_QUAD_CORNER_XY: 363278.43900 5039985.97400
SE_QUAD_CORNERY_XY: 363127.20900 5033042.49300
SW_QUAD_CORNER_XY: 358238.91700 5033150.80500
SECONDARY_NW_QUAD_XY: 358391.32600 5039876.72200
SECONDARY_NE_QUAD_XY: 363274.35800 5039768.41000
SECONDARY_SE_QUAD_XY: 363123.13000 5032824.97800
SECONDARY_SW_QUAD_XY: 358234.69200 5032933.29300
RMSE_XY: 2.40000
IMAGE_SOURCE: BLACK AND WHITE FILM
SOURCE_IMAGE_ID: NAPP 9115 119
SOURCE_IMAGE_DATE: 1996 09 10
SOURCE_IMAGE_ID: NAPP 9115 032
SOURCE_IMAGE_DATE: 1996 09 10
SOURCE_IMAGE_ID: NAPP 9115 081
SOURCE_IMAGE_DATE: 1996 09 10
SOURCE_IMAGE_ID: NAPP 9115 078
SOURCE_IMAGE_DATE: 1996 09 10
SOURCE_IMAGE_ID: NAPP 9115 077
SOURCE_IMAGE_DATE: 1996 09 10
SOURCE_DEM_DATE: 1987 00 00
AGENCY: WESTERN MAPPING CENTER (WMC)
PRODUCER: UNDEFINED
PRODUCTION_SYSTEM: GIS/MAGIC
COMPRESSION: UNDEFINED
STANDARD_VERSION: 1996 12
METADATA_DATE: 1999 06 09
DATA_FILE_SIZE: 43568330
BYTE_COUNT: 5690
