FILENAME: O4510633.NES.1010671.tif
QUADRANGLE_NAME: BIRDSEYE SPRING
QUADRANT: NE
WEST_LONGITUDE: -106 56 15.00000
EAST_LONGITUDE: -106 52 30.00000
NORTH_LATITUDE: 45 30 0.00000
SOUTH_LATITUDE: 45 26 15.00000
PRODUCTION_DATE: 1999 6 8
RASTER_ORDER: LEFT_RIGHT/TOP_BOTTOM
BAND_ORGANIZATION: SINGLE FILE
BAND_CONTENT: BLACK&WHITE
BAND_CONTENT: UNDEFINED
BAND_CONTENT: UNDEFINED
BITS_PER_PIXEL: 8
SAMPLES_AND_LINES: 5701 7663
HORIZONTAL_DATUM: NAD83
HORIZONTAL_COORDINATE_SYSTEM: UTM
COORDINATE_ZONE: 13
HORIZONTAL_UNITS: METERS
HORIZONTAL_RESOLUTION: 1.00000
SECONDARY_HORIZONTAL_DATUM: NAD27
XY_ORIGIN: 348113.00000 5040623.00000
SECONDARY_XY_ORIGIN: 348156.07700 5040406.25100
NATION: US
NATION: "SCIENCE
STATE: MT
NW_QUAD_CORNER_XY: 348629.78600 5040322.30800
NE_QUAD_CORNER_XY: 353512.66700 5040206.39400
SE_QUAD_CORNERY_XY: 353350.62800 5033262.91900
SW_QUAD_CORNER_XY: 348462.34100 5033378.83700
SECONDARY_NW_QUAD_XY: 348625.26800 5040104.75400
SECONDARY_NE_QUAD_XY: 353508.29600 5039988.83600
SECONDARY_SE_QUAD_XY: 353346.25700 5033045.41100
SECONDARY_SW_QUAD_XY: 348457.82500 5033161.33300
RMSE_XY: 2.30000
IMAGE_SOURCE: BLACK AND WHITE FILM
SOURCE_IMAGE_ID: NAPP 9085 173
SOURCE_IMAGE_DATE: 1996 06 13
SOURCE_IMAGE_ID: NAPP 9085 174
SOURCE_IMAGE_DATE: 1996 06 13
SOURCE_IMAGE_ID: NAPP 9085 172
SOURCE_IMAGE_DATE: 1996 06 13
SOURCE_IMAGE_ID: NAPP 9115 032
SOURCE_IMAGE_DATE: 1996 09 10
SOURCE_DEM_DATE: 1987 00 00
AGENCY: WESTERN MAPPING CENTER (WMC)
PRODUCER: UNDEFINED
PRODUCTION_SYSTEM: GIS/MAGIC
COMPRESSION: UNDEFINED
STANDARD_VERSION: 1996 12
METADATA_DATE: 1999 06 09
DATA_FILE_SIZE: 43692464
BYTE_COUNT: 5701
