FILENAME: O4510631.NES.1010464.tif
QUADRANGLE_NAME: WILLOW CROSSING
QUADRANT: NE
WEST_LONGITUDE: -106 11 15.00000
EAST_LONGITUDE: -106 7 30.00000
NORTH_LATITUDE: 45 37 30.00000
SOUTH_LATITUDE: 45 33 45.00000
PRODUCTION_DATE: 1999 6 9
RASTER_ORDER: LEFT_RIGHT/TOP_BOTTOM
BAND_ORGANIZATION: SINGLE FILE
BAND_CONTENT: BLACK&WHITE
BAND_CONTENT: UNDEFINED
BAND_CONTENT: UNDEFINED
BITS_PER_PIXEL: 8
SAMPLES_AND_LINES: 5622 7618
HORIZONTAL_DATUM: NAD83
HORIZONTAL_COORDINATE_SYSTEM: UTM
COORDINATE_ZONE: 13
HORIZONTAL_UNITS: METERS
HORIZONTAL_RESOLUTION: 1.00000
SECONDARY_HORIZONTAL_DATUM: NAD27
XY_ORIGIN: 406982.00000 5053371.00000
SECONDARY_XY_ORIGIN: 407023.28700 5053152.61800
NATION: US
NATION: "SCIENCE
STATE: MT
NW_QUAD_CORNER_XY: 407430.07000 5053069.52300
NE_QUAD_CORNER_XY: 412302.15800 5052999.23600
SE_QUAD_CORNERY_XY: 412204.74600 5046055.57900
SW_QUAD_CORNER_XY: 407327.24400 5046125.86900
SECONDARY_NW_QUAD_XY: 407427.30000 5052851.83900
SECONDARY_NE_QUAD_XY: 412299.53400 5052781.55000
SECONDARY_SE_QUAD_XY: 412202.12300 5045837.94100
SECONDARY_SW_QUAD_XY: 407324.47500 5045908.23300
RMSE_XY: 1.70000
IMAGE_SOURCE: BLACK AND WHITE FILM
SOURCE_IMAGE_ID: NAPP 9090 132
SOURCE_IMAGE_DATE: 1996 07 07
SOURCE_IMAGE_ID: NAPP 9090 133
SOURCE_IMAGE_DATE: 1996 07 07
SOURCE_DEM_DATE: 1962 00 00
AGENCY: WESTERN MAPPING CENTER (WMC)
PRODUCER: UNDEFINED
PRODUCTION_SYSTEM: GIS/MAGIC
COMPRESSION: UNDEFINED
STANDARD_VERSION: 1996 12
METADATA_DATE: 1999 06 14
DATA_FILE_SIZE: 42834018
BYTE_COUNT: 5622
