FILENAME: O4510629.SWS.1010451.tif
QUADRANGLE_NAME: HOLLOWWOOD CREEK
QUADRANT: SW
WEST_LONGITUDE: -106 30 0.00000
EAST_LONGITUDE: -106 26 15.00000
NORTH_LATITUDE: 45 33 45.00000
SOUTH_LATITUDE: 45 30 0.00000
PRODUCTION_DATE: 1999 6 9
RASTER_ORDER: LEFT_RIGHT/TOP_BOTTOM
BAND_ORGANIZATION: SINGLE FILE
BAND_CONTENT: BLACK&WHITE
BAND_CONTENT: UNDEFINED
BAND_CONTENT: UNDEFINED
BITS_PER_PIXEL: 8
SAMPLES_AND_LINES: 5656 7636
HORIZONTAL_DATUM: NAD83
HORIZONTAL_COORDINATE_SYSTEM: UTM
COORDINATE_ZONE: 13
HORIZONTAL_UNITS: METERS
HORIZONTAL_RESOLUTION: 1.00000
SECONDARY_HORIZONTAL_DATUM: NAD27
XY_ORIGIN: 382463.00000 5046835.00000
SECONDARY_XY_ORIGIN: 382504.82500 5046617.03100
NATION: US
NATION: "SCIENCE
STATE: MT
NW_QUAD_CORNER_XY: 382939.76800 5046534.33000
NE_QUAD_CORNER_XY: 387817.25900 5046445.03600
SE_QUAD_CORNERY_XY: 387692.91200 5039501.46700
SW_QUAD_CORNER_XY: 382810.01300 5039590.76400
SECONDARY_NW_QUAD_XY: 382936.27000 5046316.70600
SECONDARY_NE_QUAD_XY: 387813.90600 5046227.40900
SECONDARY_SE_QUAD_XY: 387689.56000 5039283.88800
SECONDARY_SW_QUAD_XY: 382806.51500 5039373.18900
RMSE_XY: 3.10000
IMAGE_SOURCE: BLACK AND WHITE FILM
SOURCE_IMAGE_ID: NAPP 9115 167
SOURCE_IMAGE_DATE: 1996 09 10
SOURCE_IMAGE_ID: NAPP 9122 030
SOURCE_IMAGE_DATE: 1996 09 11
SOURCE_IMAGE_ID: NAPP 9115 168
SOURCE_IMAGE_DATE: 1996 09 10
SOURCE_IMAGE_ID: NAPP 9115 166
SOURCE_IMAGE_DATE: 1996 09 10
SOURCE_IMAGE_ID: NAPP 9106 226
SOURCE_IMAGE_DATE: 1996 08 07
SOURCE_DEM_DATE: 1987 00 00
AGENCY: WESTERN MAPPING CENTER (WMC)
PRODUCER: UNDEFINED
PRODUCTION_SYSTEM: GIS/MAGIC
COMPRESSION: UNDEFINED
STANDARD_VERSION: 1996 12
METADATA_DATE: 1999 06 14
DATA_FILE_SIZE: 43194872
BYTE_COUNT: 5656
