FILENAME: O4510628.SES.1010415.tif
QUADRANGLE_NAME: FISHER BUTTE
QUADRANT: SE
WEST_LONGITUDE: -106 33 45.00000
EAST_LONGITUDE: -106 30 0.00000
NORTH_LATITUDE: 45 33 45.00000
SOUTH_LATITUDE: 45 30 0.00000
PRODUCTION_DATE: 1999 6 9
RASTER_ORDER: LEFT_RIGHT/TOP_BOTTOM
BAND_ORGANIZATION: SINGLE FILE
BAND_CONTENT: BLACK&WHITE
BAND_CONTENT: UNDEFINED
BAND_CONTENT: UNDEFINED
BITS_PER_PIXEL: 8
SAMPLES_AND_LINES: 5661 7640
HORIZONTAL_DATUM: NAD83
HORIZONTAL_COORDINATE_SYSTEM: UTM
COORDINATE_ZONE: 13
HORIZONTAL_UNITS: METERS
HORIZONTAL_RESOLUTION: 1.00000
SECONDARY_HORIZONTAL_DATUM: NAD27
XY_ORIGIN: 377580.00000 5046928.00000
SECONDARY_XY_ORIGIN: 377621.95800 5046710.18800
NATION: US
NATION: "SCIENCE
STATE: MT
NW_QUAD_CORNER_XY: 378062.28000 5046627.42600
NE_QUAD_CORNER_XY: 382939.76800 5046534.33000
SE_QUAD_CORNERY_XY: 382810.01300 5039590.76400
SW_QUAD_CORNER_XY: 377927.11500 5039683.86400
SECONDARY_NW_QUAD_XY: 378058.63600 5046409.80500
SECONDARY_NE_QUAD_XY: 382936.27000 5046316.70600
SECONDARY_SE_QUAD_XY: 382806.51500 5039373.18900
SECONDARY_SW_QUAD_XY: 377923.47300 5039466.29100
RMSE_XY: 2.50000
IMAGE_SOURCE: BLACK AND WHITE FILM
SOURCE_IMAGE_ID: NAPP 9122 030
SOURCE_IMAGE_DATE: 1996 09 11
SOURCE_IMAGE_ID: NAPP 9122 024
SOURCE_IMAGE_DATE: 1996 09 11
SOURCE_IMAGE_ID: NAPP 9110 025
SOURCE_IMAGE_DATE: 1996 08 11
SOURCE_IMAGE_ID: NAPP 9122 029
SOURCE_IMAGE_DATE: 1996 09 11
SOURCE_DEM_DATE: 1987 00 00
AGENCY: WESTERN MAPPING CENTER (WMC)
PRODUCER: UNDEFINED
PRODUCTION_SYSTEM: GIS/MAGIC
COMPRESSION: UNDEFINED
STANDARD_VERSION: 1996 12
METADATA_DATE: 1999 06 14
DATA_FILE_SIZE: 43255701
BYTE_COUNT: 5661
