FILENAME: O4510627.SES.1010403.tif
QUADRANGLE_NAME: LAME DEER
QUADRANT: SE
WEST_LONGITUDE: -106 41 15.00000
EAST_LONGITUDE: -106 37 30.00000
NORTH_LATITUDE: 45 33 45.00000
SOUTH_LATITUDE: 45 30 0.00000
PRODUCTION_DATE: 1999 6 7
RASTER_ORDER: LEFT_RIGHT/TOP_BOTTOM
BAND_ORGANIZATION: SINGLE FILE
BAND_CONTENT: BLACK&WHITE
BAND_CONTENT: UNDEFINED
BAND_CONTENT: UNDEFINED
BITS_PER_PIXEL: 8
SAMPLES_AND_LINES: 5673 7648
HORIZONTAL_DATUM: NAD83
HORIZONTAL_COORDINATE_SYSTEM: UTM
COORDINATE_ZONE: 13
HORIZONTAL_UNITS: METERS
HORIZONTAL_RESOLUTION: 1.00000
SECONDARY_HORIZONTAL_DATUM: NAD27
XY_ORIGIN: 367813.00000 5047126.00000
SECONDARY_XY_ORIGIN: 367855.22100 5046908.48600
NATION: US
NATION: "SCIENCE
STATE: MT
NW_QUAD_CORNER_XY: 368307.31200 5046825.02300
NE_QUAD_CORNER_XY: 373184.79500 5046724.32400
SE_QUAD_CORNERY_XY: 373044.22100 5039780.76500
SW_QUAD_CORNER_XY: 368161.32800 5039881.46900
SECONDARY_NW_QUAD_XY: 368303.37700 5046607.40800
SECONDARY_NE_QUAD_XY: 373181.00500 5046506.70500
SECONDARY_SE_QUAD_XY: 373040.43200 5039563.19500
SECONDARY_SW_QUAD_XY: 368157.39400 5039663.90200
RMSE_XY: 2.20000
IMAGE_SOURCE: BLACK AND WHITE FILM
SOURCE_IMAGE_ID: NAPP 9111 047
SOURCE_IMAGE_DATE: 1996 08 11
SOURCE_IMAGE_ID: NAPP 9115 119
SOURCE_IMAGE_DATE: 1996 09 10
SOURCE_IMAGE_ID: NAPP 9115 121
SOURCE_IMAGE_DATE: 1996 09 10
SOURCE_IMAGE_ID: NAPP 9111 043
SOURCE_IMAGE_DATE: 1996 08 11
SOURCE_IMAGE_ID: NAPP 9111 044
SOURCE_IMAGE_DATE: 1996 08 11
SOURCE_DEM_DATE: 1987 00 00
AGENCY: WESTERN MAPPING CENTER (WMC)
PRODUCER: UNDEFINED
PRODUCTION_SYSTEM: GIS/MAGIC
COMPRESSION: UNDEFINED
STANDARD_VERSION: 1996 12
METADATA_DATE: 1999 06 14
DATA_FILE_SIZE: 43392777
BYTE_COUNT: 5673
