FILENAME: O4510626.NWS.1010390.tif
QUADRANGLE_NAME: PAINTED HILL
QUADRANT: NW
WEST_LONGITUDE: -106 52 30.00000
EAST_LONGITUDE: -106 48 45.00000
NORTH_LATITUDE: 45 37 30.00000
SOUTH_LATITUDE: 45 33 45.00000
PRODUCTION_DATE: 1999 6 7
RASTER_ORDER: LEFT_RIGHT/TOP_BOTTOM
BAND_ORGANIZATION: SINGLE FILE
BAND_CONTENT: BLACK&WHITE
BAND_CONTENT: UNDEFINED
BAND_CONTENT: UNDEFINED
BITS_PER_PIXEL: 8
SAMPLES_AND_LINES: 5685 7659
HORIZONTAL_DATUM: NAD83
HORIZONTAL_COORDINATE_SYSTEM: UTM
COORDINATE_ZONE: 13
HORIZONTAL_UNITS: METERS
HORIZONTAL_RESOLUTION: 1.00000
SECONDARY_HORIZONTAL_DATUM: NAD27
XY_ORIGIN: 353326.00000 5054394.00000
SECONDARY_XY_ORIGIN: 353368.31000 5054176.69900
NATION: US
NATION: "SCIENCE
STATE: MT
NW_QUAD_CORNER_XY: 353837.27200 5054093.54700
NE_QUAD_CORNER_XY: 358709.32900 5053981.44500
SE_QUAD_CORNERY_XY: 358552.35500 5047037.82900
SW_QUAD_CORNER_XY: 353674.88200 5047149.93600
SECONDARY_NW_QUAD_XY: 353832.89800 5053875.89400
SECONDARY_NE_QUAD_XY: 358705.10100 5053763.78800
SECONDARY_SE_QUAD_XY: 358548.12900 5046820.22000
SECONDARY_SW_QUAD_XY: 353670.50900 5046932.33100
RMSE_XY: 3.70000
IMAGE_SOURCE: BLACK AND WHITE FILM
SOURCE_IMAGE_ID: NAPP 9115 075
SOURCE_IMAGE_DATE: 1996 09 10
SOURCE_IMAGE_ID: NAPP 9085 170
SOURCE_IMAGE_DATE: 1996 06 13
SOURCE_IMAGE_ID: NAPP 9115 033
SOURCE_IMAGE_DATE: 1996 09 10
SOURCE_IMAGE_ID: NAPP 9115 034
SOURCE_IMAGE_DATE: 1996 09 10
SOURCE_IMAGE_ID: NAPP 9115 036
SOURCE_IMAGE_DATE: 1996 09 10
SOURCE_DEM_DATE: 1987 00 00
AGENCY: WESTERN MAPPING CENTER (WMC)
PRODUCER: UNDEFINED
PRODUCTION_SYSTEM: GIS/MAGIC
COMPRESSION: UNDEFINED
STANDARD_VERSION: 1996 12
METADATA_DATE: 1999 06 14
DATA_FILE_SIZE: 43547100
BYTE_COUNT: 5685
