FILENAME: O4510625.NES.1010373.tif
QUADRANGLE_NAME: BUSBY
QUADRANT: NE
WEST_LONGITUDE: -106 56 15.00000
EAST_LONGITUDE: -106 52 30.00000
NORTH_LATITUDE: 45 37 30.00000
SOUTH_LATITUDE: 45 33 45.00000
PRODUCTION_DATE: 1999 6 7
RASTER_ORDER: LEFT_RIGHT/TOP_BOTTOM
BAND_ORGANIZATION: SINGLE FILE
BAND_CONTENT: BLACK&WHITE
BAND_CONTENT: UNDEFINED
BAND_CONTENT: UNDEFINED
BITS_PER_PIXEL: 8
SAMPLES_AND_LINES: 5690 7663
HORIZONTAL_DATUM: NAD83
HORIZONTAL_COORDINATE_SYSTEM: UTM
COORDINATE_ZONE: 13
HORIZONTAL_UNITS: METERS
HORIZONTAL_RESOLUTION: 1.00000
SECONDARY_HORIZONTAL_DATUM: NAD27
XY_ORIGIN: 348449.00000 5054510.00000
SECONDARY_XY_ORIGIN: 348491.42500 5054292.81800
NATION: US
NATION: "SCIENCE
STATE: MT
NW_QUAD_CORNER_XY: 348965.21800 5054209.45200
NE_QUAD_CORNER_XY: 353837.27200 5054093.54700
SE_QUAD_CORNERY_XY: 353674.88200 5047149.93600
SW_QUAD_CORNER_XY: 348797.41200 5047265.84600
SECONDARY_NW_QUAD_XY: 348960.69900 5053991.80200
SECONDARY_NE_QUAD_XY: 353832.89800 5053875.89400
SECONDARY_SE_QUAD_XY: 353670.50900 5046932.33100
SECONDARY_SW_QUAD_XY: 348792.89300 5047048.24400
RMSE_XY: 3.00000
IMAGE_SOURCE: BLACK AND WHITE FILM
SOURCE_IMAGE_ID: NAPP 9115 036
SOURCE_IMAGE_DATE: 1996 09 10
SOURCE_IMAGE_ID: NAPP 9099 033
SOURCE_IMAGE_DATE: 1996 07 14
SOURCE_IMAGE_ID: NAPP 9099 034
SOURCE_IMAGE_DATE: 1996 07 14
SOURCE_IMAGE_ID: NAPP 9085 170
SOURCE_IMAGE_DATE: 1996 06 13
SOURCE_IMAGE_ID: NAPP 9085 168
SOURCE_IMAGE_DATE: 1996 06 13
SOURCE_DEM_DATE: 1987 00 00
AGENCY: WESTERN MAPPING CENTER (WMC)
PRODUCER: UNDEFINED
PRODUCTION_SYSTEM: GIS/MAGIC
COMPRESSION: UNDEFINED
STANDARD_VERSION: 1996 12
METADATA_DATE: 1999 06 14
DATA_FILE_SIZE: 43608160
BYTE_COUNT: 5690
