FILENAME: O4510623.SWS.1010463.tif
QUADRANGLE_NAME: COOK CREEK RESERVOIR
QUADRANT: SW
WEST_LONGITUDE: -106 15 0.00000
EAST_LONGITUDE: -106 11 15.00000
NORTH_LATITUDE: 45 41 15.00000
SOUTH_LATITUDE: 45 37 30.00000
PRODUCTION_DATE: 1999 6 9
RASTER_ORDER: LEFT_RIGHT/TOP_BOTTOM
BAND_ORGANIZATION: SINGLE FILE
BAND_CONTENT: BLACK&WHITE
BAND_CONTENT: UNDEFINED
BAND_CONTENT: UNDEFINED
BITS_PER_PIXEL: 8
SAMPLES_AND_LINES: 5623 7622
HORIZONTAL_DATUM: NAD83
HORIZONTAL_COORDINATE_SYSTEM: UTM
COORDINATE_ZONE: 13
HORIZONTAL_UNITS: METERS
HORIZONTAL_RESOLUTION: 1.00000
SECONDARY_HORIZONTAL_DATUM: NAD27
XY_ORIGIN: 402212.00000 5060389.00000
SECONDARY_XY_ORIGIN: 402253.16800 5060170.40700
NATION: US
NATION: "SCIENCE
STATE: MT
NW_QUAD_CORNER_XY: 402666.33900 5060087.33400
NE_QUAD_CORNER_XY: 407533.00600 5060013.25000
SE_QUAD_CORNERY_XY: 407430.07000 5053069.52300
SW_QUAD_CORNER_XY: 402557.98400 5053143.61000
SECONDARY_NW_QUAD_XY: 402663.42300 5059869.60600
SECONDARY_NE_QUAD_XY: 407530.23600 5059795.52000
SECONDARY_SE_QUAD_XY: 407427.30000 5052851.83900
SECONDARY_SW_QUAD_XY: 402555.06800 5052925.92900
RMSE_XY: 2.50000
IMAGE_SOURCE: BLACK AND WHITE FILM
SOURCE_IMAGE_ID: NAPP 9090 135
SOURCE_IMAGE_DATE: 1996 07 07
SOURCE_IMAGE_ID: NAPP 9097 026
SOURCE_IMAGE_DATE: 1996 07 12
SOURCE_IMAGE_ID: NAPP 9090 158
SOURCE_IMAGE_DATE: 1996 07 07
SOURCE_IMAGE_ID: NAPP 9090 156
SOURCE_IMAGE_DATE: 1996 07 07
SOURCE_IMAGE_ID: NAPP 9090 133
SOURCE_IMAGE_DATE: 1996 07 07
SOURCE_DEM_DATE: 1990 00 00
AGENCY: WESTERN MAPPING CENTER (WMC)
PRODUCER: UNDEFINED
PRODUCTION_SYSTEM: GIS/MAGIC
COMPRESSION: UNDEFINED
STANDARD_VERSION: 1996 12
METADATA_DATE: 1999 06 14
DATA_FILE_SIZE: 42864129
BYTE_COUNT: 5623
