FILENAME: O4510622.SES.1010454.tif
QUADRANGLE_NAME: ASHLAND NE
QUADRANT: SE
WEST_LONGITUDE: -106 18 45.00000
EAST_LONGITUDE: -106 15 0.00000
NORTH_LATITUDE: 45 41 15.00000
SOUTH_LATITUDE: 45 37 30.00000
PRODUCTION_DATE: 1999 6 9
RASTER_ORDER: LEFT_RIGHT/TOP_BOTTOM
BAND_ORGANIZATION: SINGLE FILE
BAND_CONTENT: BLACK&WHITE
BAND_CONTENT: UNDEFINED
BAND_CONTENT: UNDEFINED
BITS_PER_PIXEL: 8
SAMPLES_AND_LINES: 5628 7625
HORIZONTAL_DATUM: NAD83
HORIZONTAL_COORDINATE_SYSTEM: UTM
COORDINATE_ZONE: 13
HORIZONTAL_UNITS: METERS
HORIZONTAL_RESOLUTION: 1.00000
SECONDARY_HORIZONTAL_DATUM: NAD27
XY_ORIGIN: 397340.00000 5060466.00000
SECONDARY_XY_ORIGIN: 397381.19800 5060247.50900
NATION: US
NATION: "SCIENCE
STATE: MT
NW_QUAD_CORNER_XY: 397799.67500 5060165.21800
NE_QUAD_CORNER_XY: 402666.33900 5060087.33400
SE_QUAD_CORNERY_XY: 402557.98400 5053143.61000
SW_QUAD_CORNER_XY: 397685.90000 5053221.49800
SECONDARY_NW_QUAD_XY: 397796.61300 5059947.49200
SECONDARY_NE_QUAD_XY: 402663.42300 5059869.60600
SECONDARY_SE_QUAD_XY: 402555.06800 5052925.92900
SECONDARY_SW_QUAD_XY: 397682.83800 5053003.81900
RMSE_XY: 1.40000
IMAGE_SOURCE: BLACK AND WHITE FILM
SOURCE_IMAGE_ID: NAPP 9097 026
SOURCE_IMAGE_DATE: 1996 07 12
SOURCE_IMAGE_ID: NAPP 9102 085
SOURCE_IMAGE_DATE: 1996 07 14
SOURCE_IMAGE_ID: NAPP 10722 023
SOURCE_IMAGE_DATE: 1997 08 25
SOURCE_IMAGE_ID: NAPP 9097 027
SOURCE_IMAGE_DATE: 1996 07 12
SOURCE_DEM_DATE: 1987 00 00
AGENCY: WESTERN MAPPING CENTER (WMC)
PRODUCER: UNDEFINED
PRODUCTION_SYSTEM: GIS/MAGIC
COMPRESSION: UNDEFINED
STANDARD_VERSION: 1996 12
METADATA_DATE: 1999 06 14
DATA_FILE_SIZE: 42919128
BYTE_COUNT: 5628
